BEGIN:VCALENDAR
VERSION:2.0
PRODID:-//Department of Public Health - ECPv6.15.14//NONSGML v1.0//EN
CALSCALE:GREGORIAN
METHOD:PUBLISH
X-WR-CALNAME:Department of Public Health
X-ORIGINAL-URL:https://dph.sbcounty.gov
X-WR-CALDESC:Events for Department of Public Health
REFRESH-INTERVAL;VALUE=DURATION:PT1H
X-Robots-Tag:noindex
X-PUBLISHED-TTL:PT1H
BEGIN:VTIMEZONE
TZID:America/Los_Angeles
BEGIN:DAYLIGHT
TZOFFSETFROM:-0800
TZOFFSETTO:-0700
TZNAME:PDT
DTSTART:20240310T100000
END:DAYLIGHT
BEGIN:STANDARD
TZOFFSETFROM:-0700
TZOFFSETTO:-0800
TZNAME:PST
DTSTART:20241103T090000
END:STANDARD
BEGIN:DAYLIGHT
TZOFFSETFROM:-0800
TZOFFSETTO:-0700
TZNAME:PDT
DTSTART:20250309T100000
END:DAYLIGHT
BEGIN:STANDARD
TZOFFSETFROM:-0700
TZOFFSETTO:-0800
TZNAME:PST
DTSTART:20251102T090000
END:STANDARD
BEGIN:DAYLIGHT
TZOFFSETFROM:-0800
TZOFFSETTO:-0700
TZNAME:PDT
DTSTART:20260308T100000
END:DAYLIGHT
BEGIN:STANDARD
TZOFFSETFROM:-0700
TZOFFSETTO:-0800
TZNAME:PST
DTSTART:20261101T090000
END:STANDARD
END:VTIMEZONE
BEGIN:VEVENT
DTSTART;TZID=America/Los_Angeles:20250909T121500
DTEND;TZID=America/Los_Angeles:20250909T131500
DTSTAMP:20260419T081417
CREATED:20250610T220718Z
LAST-MODIFIED:20250612T222710Z
UID:10006170-1757420100-1757423700@dph.sbcounty.gov
SUMMARY:Tai Chi for Arthritis and Fall Prevention - Yucca Valley Senior Center
DESCRIPTION:Tai Chi for Arthritis and Fall Prevention is designed to improve multiple aspects of health through slow\, gentle movements. The program is suitable for adults with or without arthritis\, rheumatic\, or musculoskeletal conditions.
URL:https://dph.sbcounty.gov/event/tai-chi-for-arthritis-and-fall-prevention-yucca-valley-senior-center/2025-09-09/
LOCATION:57090 Twentynine Palms Hwy.\, 57090 Twentynine Palms Hwy.\, Yucca Valley\, CA\, 92284
CATEGORIES:Nutrition
END:VEVENT
BEGIN:VEVENT
DTSTART;TZID=America/Los_Angeles:20250910T093000
DTEND;TZID=America/Los_Angeles:20250910T103000
DTSTAMP:20260419T081417
CREATED:20250612T231000Z
LAST-MODIFIED:20250612T231000Z
UID:10006191-1757496600-1757500200@dph.sbcounty.gov
SUMMARY:Tai Chi for Arthritis and Fall Prevention - Fifth Street Senior Center
DESCRIPTION:Tai Chi for Arthritis and Fall Prevention is designed to improve multiple aspects of health through slow\, gentle movements. The program is suitable for adults with or without arthritis\, rheumatic\, or musculoskeletal conditions.
URL:https://dph.sbcounty.gov/event/tai-chi-for-arthritis-and-fall-prevention-fifth-street-senior-center/2025-09-10/
LOCATION:5th Street Senior Center\, 600 W. 5th Street\, San Bernardino\, ca\, 92410
CATEGORIES:Nutrition
END:VEVENT
BEGIN:VEVENT
DTSTART;TZID=America/Los_Angeles:20250911T100000
DTEND;TZID=America/Los_Angeles:20250911T110000
DTSTAMP:20260419T081417
CREATED:20250612T232225Z
LAST-MODIFIED:20250612T232225Z
UID:10006251-1757584800-1757588400@dph.sbcounty.gov
SUMMARY:Bingocize Nutrition and Exercise Class - 29 Palms Senior Center
DESCRIPTION:Bingocize is a fun 10-week health promotion program that combines the game of bingo with inclusive exercises for everyone (seated or standing). Come play bingo and meet new people while learning about nutrition! \nClasses are held every Tuesday and Thursday from Aug. 26 – Oct. 30.
URL:https://dph.sbcounty.gov/event/bingocize-nutrition-and-exercise-class-29-palms-senior-center/2025-09-11/
LOCATION:29 Palms Senior Center\, 6539 Adobe Road\, Twenty-nine Palms\, CA\, United States
CATEGORIES:Nutrition
END:VEVENT
BEGIN:VEVENT
DTSTART;TZID=America/Los_Angeles:20250915T100000
DTEND;TZID=America/Los_Angeles:20250915T110000
DTSTAMP:20260419T081417
CREATED:20250612T231632Z
LAST-MODIFIED:20250612T231632Z
UID:10006215-1757930400-1757934000@dph.sbcounty.gov
SUMMARY:Tai Chi for Arthritis and Fall Prevention - Perris Hill Senior Center
DESCRIPTION:Tai Chi for Arthritis and Fall Prevention is designed to improve multiple aspects of health through slow\, gentle movements. The program is suitable for adults with or without arthritis\, rheumatic\, or musculoskeletal conditions.
URL:https://dph.sbcounty.gov/event/tai-chi-for-arthritis-and-fall-prevention-perris-hill-senior-center/2025-09-15/
LOCATION:Perris Hill Senior Center\, 780 East 21st Street\, San Bernardino\, CA\, 92404\, United States
CATEGORIES:Nutrition
END:VEVENT
BEGIN:VEVENT
DTSTART;TZID=America/Los_Angeles:20250916T100000
DTEND;TZID=America/Los_Angeles:20250916T110000
DTSTAMP:20260419T081417
CREATED:20250612T232225Z
LAST-MODIFIED:20250612T232225Z
UID:10006254-1758016800-1758020400@dph.sbcounty.gov
SUMMARY:Bingocize Nutrition and Exercise Class - 29 Palms Senior Center
DESCRIPTION:Bingocize is a fun 10-week health promotion program that combines the game of bingo with inclusive exercises for everyone (seated or standing). Come play bingo and meet new people while learning about nutrition! \nClasses are held every Tuesday and Thursday from Aug. 26 – Oct. 30.
URL:https://dph.sbcounty.gov/event/bingocize-nutrition-and-exercise-class-29-palms-senior-center/2025-09-16/
LOCATION:29 Palms Senior Center\, 6539 Adobe Road\, Twenty-nine Palms\, CA\, United States
CATEGORIES:Nutrition
END:VEVENT
BEGIN:VEVENT
DTSTART;TZID=America/Los_Angeles:20250916T121500
DTEND;TZID=America/Los_Angeles:20250916T131500
DTSTAMP:20260419T081417
CREATED:20250610T220718Z
LAST-MODIFIED:20250612T222710Z
UID:10006173-1758024900-1758028500@dph.sbcounty.gov
SUMMARY:Tai Chi for Arthritis and Fall Prevention - Yucca Valley Senior Center
DESCRIPTION:Tai Chi for Arthritis and Fall Prevention is designed to improve multiple aspects of health through slow\, gentle movements. The program is suitable for adults with or without arthritis\, rheumatic\, or musculoskeletal conditions.
URL:https://dph.sbcounty.gov/event/tai-chi-for-arthritis-and-fall-prevention-yucca-valley-senior-center/2025-09-16/
LOCATION:57090 Twentynine Palms Hwy.\, 57090 Twentynine Palms Hwy.\, Yucca Valley\, CA\, 92284
CATEGORIES:Nutrition
END:VEVENT
BEGIN:VEVENT
DTSTART;TZID=America/Los_Angeles:20250917T093000
DTEND;TZID=America/Los_Angeles:20250917T103000
DTSTAMP:20260419T081417
CREATED:20250612T231000Z
LAST-MODIFIED:20250612T231000Z
UID:10006194-1758101400-1758105000@dph.sbcounty.gov
SUMMARY:Tai Chi for Arthritis and Fall Prevention - Fifth Street Senior Center
DESCRIPTION:Tai Chi for Arthritis and Fall Prevention is designed to improve multiple aspects of health through slow\, gentle movements. The program is suitable for adults with or without arthritis\, rheumatic\, or musculoskeletal conditions.
URL:https://dph.sbcounty.gov/event/tai-chi-for-arthritis-and-fall-prevention-fifth-street-senior-center/2025-09-17/
LOCATION:5th Street Senior Center\, 600 W. 5th Street\, San Bernardino\, ca\, 92410
CATEGORIES:Nutrition
END:VEVENT
BEGIN:VEVENT
DTSTART;TZID=America/Los_Angeles:20250918T100000
DTEND;TZID=America/Los_Angeles:20250918T110000
DTSTAMP:20260419T081417
CREATED:20250612T232225Z
LAST-MODIFIED:20250612T232225Z
UID:10006257-1758189600-1758193200@dph.sbcounty.gov
SUMMARY:Bingocize Nutrition and Exercise Class - 29 Palms Senior Center
DESCRIPTION:Bingocize is a fun 10-week health promotion program that combines the game of bingo with inclusive exercises for everyone (seated or standing). Come play bingo and meet new people while learning about nutrition! \nClasses are held every Tuesday and Thursday from Aug. 26 – Oct. 30.
URL:https://dph.sbcounty.gov/event/bingocize-nutrition-and-exercise-class-29-palms-senior-center/2025-09-18/
LOCATION:29 Palms Senior Center\, 6539 Adobe Road\, Twenty-nine Palms\, CA\, United States
CATEGORIES:Nutrition
END:VEVENT
BEGIN:VEVENT
DTSTART;TZID=America/Los_Angeles:20250922T100000
DTEND;TZID=America/Los_Angeles:20250922T110000
DTSTAMP:20260419T081417
CREATED:20250612T231632Z
LAST-MODIFIED:20250612T231632Z
UID:10006218-1758535200-1758538800@dph.sbcounty.gov
SUMMARY:Tai Chi for Arthritis and Fall Prevention - Perris Hill Senior Center
DESCRIPTION:Tai Chi for Arthritis and Fall Prevention is designed to improve multiple aspects of health through slow\, gentle movements. The program is suitable for adults with or without arthritis\, rheumatic\, or musculoskeletal conditions.
URL:https://dph.sbcounty.gov/event/tai-chi-for-arthritis-and-fall-prevention-perris-hill-senior-center/2025-09-22/
LOCATION:Perris Hill Senior Center\, 780 East 21st Street\, San Bernardino\, CA\, 92404\, United States
CATEGORIES:Nutrition
END:VEVENT
BEGIN:VEVENT
DTSTART;TZID=America/Los_Angeles:20250923T100000
DTEND;TZID=America/Los_Angeles:20250923T110000
DTSTAMP:20260419T081417
CREATED:20250612T232225Z
LAST-MODIFIED:20250612T232225Z
UID:10006260-1758621600-1758625200@dph.sbcounty.gov
SUMMARY:Bingocize Nutrition and Exercise Class - 29 Palms Senior Center
DESCRIPTION:Bingocize is a fun 10-week health promotion program that combines the game of bingo with inclusive exercises for everyone (seated or standing). Come play bingo and meet new people while learning about nutrition! \nClasses are held every Tuesday and Thursday from Aug. 26 – Oct. 30.
URL:https://dph.sbcounty.gov/event/bingocize-nutrition-and-exercise-class-29-palms-senior-center/2025-09-23/
LOCATION:29 Palms Senior Center\, 6539 Adobe Road\, Twenty-nine Palms\, CA\, United States
CATEGORIES:Nutrition
END:VEVENT
BEGIN:VEVENT
DTSTART;TZID=America/Los_Angeles:20250923T121500
DTEND;TZID=America/Los_Angeles:20250923T131500
DTSTAMP:20260419T081417
CREATED:20250610T220718Z
LAST-MODIFIED:20250612T222710Z
UID:10006176-1758629700-1758633300@dph.sbcounty.gov
SUMMARY:Tai Chi for Arthritis and Fall Prevention - Yucca Valley Senior Center
DESCRIPTION:Tai Chi for Arthritis and Fall Prevention is designed to improve multiple aspects of health through slow\, gentle movements. The program is suitable for adults with or without arthritis\, rheumatic\, or musculoskeletal conditions.
URL:https://dph.sbcounty.gov/event/tai-chi-for-arthritis-and-fall-prevention-yucca-valley-senior-center/2025-09-23/
LOCATION:57090 Twentynine Palms Hwy.\, 57090 Twentynine Palms Hwy.\, Yucca Valley\, CA\, 92284
CATEGORIES:Nutrition
END:VEVENT
BEGIN:VEVENT
DTSTART;TZID=America/Los_Angeles:20250924T093000
DTEND;TZID=America/Los_Angeles:20250924T103000
DTSTAMP:20260419T081417
CREATED:20250612T231000Z
LAST-MODIFIED:20250612T231000Z
UID:10006197-1758706200-1758709800@dph.sbcounty.gov
SUMMARY:Tai Chi for Arthritis and Fall Prevention - Fifth Street Senior Center
DESCRIPTION:Tai Chi for Arthritis and Fall Prevention is designed to improve multiple aspects of health through slow\, gentle movements. The program is suitable for adults with or without arthritis\, rheumatic\, or musculoskeletal conditions.
URL:https://dph.sbcounty.gov/event/tai-chi-for-arthritis-and-fall-prevention-fifth-street-senior-center/2025-09-24/
LOCATION:5th Street Senior Center\, 600 W. 5th Street\, San Bernardino\, ca\, 92410
CATEGORIES:Nutrition
END:VEVENT
BEGIN:VEVENT
DTSTART;TZID=America/Los_Angeles:20250925T100000
DTEND;TZID=America/Los_Angeles:20250925T110000
DTSTAMP:20260419T081417
CREATED:20250612T232225Z
LAST-MODIFIED:20250612T232225Z
UID:10006263-1758794400-1758798000@dph.sbcounty.gov
SUMMARY:Bingocize Nutrition and Exercise Class - 29 Palms Senior Center
DESCRIPTION:Bingocize is a fun 10-week health promotion program that combines the game of bingo with inclusive exercises for everyone (seated or standing). Come play bingo and meet new people while learning about nutrition! \nClasses are held every Tuesday and Thursday from Aug. 26 – Oct. 30.
URL:https://dph.sbcounty.gov/event/bingocize-nutrition-and-exercise-class-29-palms-senior-center/2025-09-25/
LOCATION:29 Palms Senior Center\, 6539 Adobe Road\, Twenty-nine Palms\, CA\, United States
CATEGORIES:Nutrition
END:VEVENT
BEGIN:VEVENT
DTSTART;TZID=America/Los_Angeles:20250929T100000
DTEND;TZID=America/Los_Angeles:20250929T110000
DTSTAMP:20260419T081417
CREATED:20250612T231632Z
LAST-MODIFIED:20250612T231632Z
UID:10006221-1759140000-1759143600@dph.sbcounty.gov
SUMMARY:Tai Chi for Arthritis and Fall Prevention - Perris Hill Senior Center
DESCRIPTION:Tai Chi for Arthritis and Fall Prevention is designed to improve multiple aspects of health through slow\, gentle movements. The program is suitable for adults with or without arthritis\, rheumatic\, or musculoskeletal conditions.
URL:https://dph.sbcounty.gov/event/tai-chi-for-arthritis-and-fall-prevention-perris-hill-senior-center/2025-09-29/
LOCATION:Perris Hill Senior Center\, 780 East 21st Street\, San Bernardino\, CA\, 92404\, United States
CATEGORIES:Nutrition
END:VEVENT
BEGIN:VEVENT
DTSTART;TZID=America/Los_Angeles:20250930T100000
DTEND;TZID=America/Los_Angeles:20250930T110000
DTSTAMP:20260419T081417
CREATED:20250612T232225Z
LAST-MODIFIED:20250612T232225Z
UID:10006266-1759226400-1759230000@dph.sbcounty.gov
SUMMARY:Bingocize Nutrition and Exercise Class - 29 Palms Senior Center
DESCRIPTION:Bingocize is a fun 10-week health promotion program that combines the game of bingo with inclusive exercises for everyone (seated or standing). Come play bingo and meet new people while learning about nutrition! \nClasses are held every Tuesday and Thursday from Aug. 26 – Oct. 30.
URL:https://dph.sbcounty.gov/event/bingocize-nutrition-and-exercise-class-29-palms-senior-center/2025-09-30/
LOCATION:29 Palms Senior Center\, 6539 Adobe Road\, Twenty-nine Palms\, CA\, United States
CATEGORIES:Nutrition
END:VEVENT
BEGIN:VEVENT
DTSTART;TZID=America/Los_Angeles:20250930T121500
DTEND;TZID=America/Los_Angeles:20250930T131500
DTSTAMP:20260419T081417
CREATED:20250610T220718Z
LAST-MODIFIED:20250612T222710Z
UID:10006179-1759234500-1759238100@dph.sbcounty.gov
SUMMARY:Tai Chi for Arthritis and Fall Prevention - Yucca Valley Senior Center
DESCRIPTION:Tai Chi for Arthritis and Fall Prevention is designed to improve multiple aspects of health through slow\, gentle movements. The program is suitable for adults with or without arthritis\, rheumatic\, or musculoskeletal conditions.
URL:https://dph.sbcounty.gov/event/tai-chi-for-arthritis-and-fall-prevention-yucca-valley-senior-center/2025-09-30/
LOCATION:57090 Twentynine Palms Hwy.\, 57090 Twentynine Palms Hwy.\, Yucca Valley\, CA\, 92284
CATEGORIES:Nutrition
END:VEVENT
BEGIN:VEVENT
DTSTART;TZID=America/Los_Angeles:20251001T093000
DTEND;TZID=America/Los_Angeles:20251001T103000
DTSTAMP:20260419T081417
CREATED:20250612T231000Z
LAST-MODIFIED:20250612T231000Z
UID:10006200-1759311000-1759314600@dph.sbcounty.gov
SUMMARY:Tai Chi for Arthritis and Fall Prevention - Fifth Street Senior Center
DESCRIPTION:Tai Chi for Arthritis and Fall Prevention is designed to improve multiple aspects of health through slow\, gentle movements. The program is suitable for adults with or without arthritis\, rheumatic\, or musculoskeletal conditions.
URL:https://dph.sbcounty.gov/event/tai-chi-for-arthritis-and-fall-prevention-fifth-street-senior-center/2025-10-01/
LOCATION:5th Street Senior Center\, 600 W. 5th Street\, San Bernardino\, ca\, 92410
CATEGORIES:Nutrition
END:VEVENT
BEGIN:VEVENT
DTSTART;TZID=America/Los_Angeles:20251002T100000
DTEND;TZID=America/Los_Angeles:20251002T110000
DTSTAMP:20260419T081417
CREATED:20250612T232225Z
LAST-MODIFIED:20250612T232225Z
UID:10006269-1759399200-1759402800@dph.sbcounty.gov
SUMMARY:Bingocize Nutrition and Exercise Class - 29 Palms Senior Center
DESCRIPTION:Bingocize is a fun 10-week health promotion program that combines the game of bingo with inclusive exercises for everyone (seated or standing). Come play bingo and meet new people while learning about nutrition! \nClasses are held every Tuesday and Thursday from Aug. 26 – Oct. 30.
URL:https://dph.sbcounty.gov/event/bingocize-nutrition-and-exercise-class-29-palms-senior-center/2025-10-02/
LOCATION:29 Palms Senior Center\, 6539 Adobe Road\, Twenty-nine Palms\, CA\, United States
CATEGORIES:Nutrition
END:VEVENT
BEGIN:VEVENT
DTSTART;TZID=America/Los_Angeles:20251006T100000
DTEND;TZID=America/Los_Angeles:20251006T110000
DTSTAMP:20260419T081417
CREATED:20250612T231632Z
LAST-MODIFIED:20250612T231632Z
UID:10006224-1759744800-1759748400@dph.sbcounty.gov
SUMMARY:Tai Chi for Arthritis and Fall Prevention - Perris Hill Senior Center
DESCRIPTION:Tai Chi for Arthritis and Fall Prevention is designed to improve multiple aspects of health through slow\, gentle movements. The program is suitable for adults with or without arthritis\, rheumatic\, or musculoskeletal conditions.
URL:https://dph.sbcounty.gov/event/tai-chi-for-arthritis-and-fall-prevention-perris-hill-senior-center/2025-10-06/
LOCATION:Perris Hill Senior Center\, 780 East 21st Street\, San Bernardino\, CA\, 92404\, United States
CATEGORIES:Nutrition
END:VEVENT
BEGIN:VEVENT
DTSTART;TZID=America/Los_Angeles:20251007T100000
DTEND;TZID=America/Los_Angeles:20251007T110000
DTSTAMP:20260419T081417
CREATED:20250612T232225Z
LAST-MODIFIED:20250612T232225Z
UID:10006272-1759831200-1759834800@dph.sbcounty.gov
SUMMARY:Bingocize Nutrition and Exercise Class - 29 Palms Senior Center
DESCRIPTION:Bingocize is a fun 10-week health promotion program that combines the game of bingo with inclusive exercises for everyone (seated or standing). Come play bingo and meet new people while learning about nutrition! \nClasses are held every Tuesday and Thursday from Aug. 26 – Oct. 30.
URL:https://dph.sbcounty.gov/event/bingocize-nutrition-and-exercise-class-29-palms-senior-center/2025-10-07/
LOCATION:29 Palms Senior Center\, 6539 Adobe Road\, Twenty-nine Palms\, CA\, United States
CATEGORIES:Nutrition
END:VEVENT
BEGIN:VEVENT
DTSTART;TZID=America/Los_Angeles:20251007T121500
DTEND;TZID=America/Los_Angeles:20251007T131500
DTSTAMP:20260419T081417
CREATED:20250610T220718Z
LAST-MODIFIED:20250612T222710Z
UID:10006182-1759839300-1759842900@dph.sbcounty.gov
SUMMARY:Tai Chi for Arthritis and Fall Prevention - Yucca Valley Senior Center
DESCRIPTION:Tai Chi for Arthritis and Fall Prevention is designed to improve multiple aspects of health through slow\, gentle movements. The program is suitable for adults with or without arthritis\, rheumatic\, or musculoskeletal conditions.
URL:https://dph.sbcounty.gov/event/tai-chi-for-arthritis-and-fall-prevention-yucca-valley-senior-center/2025-10-07/
LOCATION:57090 Twentynine Palms Hwy.\, 57090 Twentynine Palms Hwy.\, Yucca Valley\, CA\, 92284
CATEGORIES:Nutrition
END:VEVENT
BEGIN:VEVENT
DTSTART;TZID=America/Los_Angeles:20251008T093000
DTEND;TZID=America/Los_Angeles:20251008T103000
DTSTAMP:20260419T081417
CREATED:20250612T231000Z
LAST-MODIFIED:20250612T231000Z
UID:10006203-1759915800-1759919400@dph.sbcounty.gov
SUMMARY:Tai Chi for Arthritis and Fall Prevention - Fifth Street Senior Center
DESCRIPTION:Tai Chi for Arthritis and Fall Prevention is designed to improve multiple aspects of health through slow\, gentle movements. The program is suitable for adults with or without arthritis\, rheumatic\, or musculoskeletal conditions.
URL:https://dph.sbcounty.gov/event/tai-chi-for-arthritis-and-fall-prevention-fifth-street-senior-center/2025-10-08/
LOCATION:5th Street Senior Center\, 600 W. 5th Street\, San Bernardino\, ca\, 92410
CATEGORIES:Nutrition
END:VEVENT
BEGIN:VEVENT
DTSTART;TZID=America/Los_Angeles:20251009T100000
DTEND;TZID=America/Los_Angeles:20251009T110000
DTSTAMP:20260419T081417
CREATED:20250612T232225Z
LAST-MODIFIED:20250612T232225Z
UID:10006275-1760004000-1760007600@dph.sbcounty.gov
SUMMARY:Bingocize Nutrition and Exercise Class - 29 Palms Senior Center
DESCRIPTION:Bingocize is a fun 10-week health promotion program that combines the game of bingo with inclusive exercises for everyone (seated or standing). Come play bingo and meet new people while learning about nutrition! \nClasses are held every Tuesday and Thursday from Aug. 26 – Oct. 30.
URL:https://dph.sbcounty.gov/event/bingocize-nutrition-and-exercise-class-29-palms-senior-center/2025-10-09/
LOCATION:29 Palms Senior Center\, 6539 Adobe Road\, Twenty-nine Palms\, CA\, United States
CATEGORIES:Nutrition
END:VEVENT
BEGIN:VEVENT
DTSTART;TZID=America/Los_Angeles:20251014T100000
DTEND;TZID=America/Los_Angeles:20251014T110000
DTSTAMP:20260419T081417
CREATED:20250612T232225Z
LAST-MODIFIED:20250612T232225Z
UID:10006278-1760436000-1760439600@dph.sbcounty.gov
SUMMARY:Bingocize Nutrition and Exercise Class - 29 Palms Senior Center
DESCRIPTION:Bingocize is a fun 10-week health promotion program that combines the game of bingo with inclusive exercises for everyone (seated or standing). Come play bingo and meet new people while learning about nutrition! \nClasses are held every Tuesday and Thursday from Aug. 26 – Oct. 30.
URL:https://dph.sbcounty.gov/event/bingocize-nutrition-and-exercise-class-29-palms-senior-center/2025-10-14/
LOCATION:29 Palms Senior Center\, 6539 Adobe Road\, Twenty-nine Palms\, CA\, United States
CATEGORIES:Nutrition
END:VEVENT
BEGIN:VEVENT
DTSTART;TZID=America/Los_Angeles:20251014T121500
DTEND;TZID=America/Los_Angeles:20251014T131500
DTSTAMP:20260419T081417
CREATED:20250610T220718Z
LAST-MODIFIED:20250612T222710Z
UID:10006185-1760444100-1760447700@dph.sbcounty.gov
SUMMARY:Tai Chi for Arthritis and Fall Prevention - Yucca Valley Senior Center
DESCRIPTION:Tai Chi for Arthritis and Fall Prevention is designed to improve multiple aspects of health through slow\, gentle movements. The program is suitable for adults with or without arthritis\, rheumatic\, or musculoskeletal conditions.
URL:https://dph.sbcounty.gov/event/tai-chi-for-arthritis-and-fall-prevention-yucca-valley-senior-center/2025-10-14/
LOCATION:57090 Twentynine Palms Hwy.\, 57090 Twentynine Palms Hwy.\, Yucca Valley\, CA\, 92284
CATEGORIES:Nutrition
END:VEVENT
BEGIN:VEVENT
DTSTART;TZID=America/Los_Angeles:20251015T093000
DTEND;TZID=America/Los_Angeles:20251015T103000
DTSTAMP:20260419T081417
CREATED:20250612T231000Z
LAST-MODIFIED:20250612T231000Z
UID:10006206-1760520600-1760524200@dph.sbcounty.gov
SUMMARY:Tai Chi for Arthritis and Fall Prevention - Fifth Street Senior Center
DESCRIPTION:Tai Chi for Arthritis and Fall Prevention is designed to improve multiple aspects of health through slow\, gentle movements. The program is suitable for adults with or without arthritis\, rheumatic\, or musculoskeletal conditions.
URL:https://dph.sbcounty.gov/event/tai-chi-for-arthritis-and-fall-prevention-fifth-street-senior-center/2025-10-15/
LOCATION:5th Street Senior Center\, 600 W. 5th Street\, San Bernardino\, ca\, 92410
CATEGORIES:Nutrition
END:VEVENT
BEGIN:VEVENT
DTSTART;TZID=America/Los_Angeles:20251016T100000
DTEND;TZID=America/Los_Angeles:20251016T110000
DTSTAMP:20260419T081417
CREATED:20250612T232225Z
LAST-MODIFIED:20250612T232225Z
UID:10006281-1760608800-1760612400@dph.sbcounty.gov
SUMMARY:Bingocize Nutrition and Exercise Class - 29 Palms Senior Center
DESCRIPTION:Bingocize is a fun 10-week health promotion program that combines the game of bingo with inclusive exercises for everyone (seated or standing). Come play bingo and meet new people while learning about nutrition! \nClasses are held every Tuesday and Thursday from Aug. 26 – Oct. 30.
URL:https://dph.sbcounty.gov/event/bingocize-nutrition-and-exercise-class-29-palms-senior-center/2025-10-16/
LOCATION:29 Palms Senior Center\, 6539 Adobe Road\, Twenty-nine Palms\, CA\, United States
CATEGORIES:Nutrition
END:VEVENT
BEGIN:VEVENT
DTSTART;TZID=America/Los_Angeles:20251020T100000
DTEND;TZID=America/Los_Angeles:20251020T110000
DTSTAMP:20260419T081417
CREATED:20250612T231632Z
LAST-MODIFIED:20250612T231632Z
UID:10006227-1760954400-1760958000@dph.sbcounty.gov
SUMMARY:Tai Chi for Arthritis and Fall Prevention - Perris Hill Senior Center
DESCRIPTION:Tai Chi for Arthritis and Fall Prevention is designed to improve multiple aspects of health through slow\, gentle movements. The program is suitable for adults with or without arthritis\, rheumatic\, or musculoskeletal conditions.
URL:https://dph.sbcounty.gov/event/tai-chi-for-arthritis-and-fall-prevention-perris-hill-senior-center/2025-10-20/
LOCATION:Perris Hill Senior Center\, 780 East 21st Street\, San Bernardino\, CA\, 92404\, United States
CATEGORIES:Nutrition
END:VEVENT
BEGIN:VEVENT
DTSTART;TZID=America/Los_Angeles:20251021T100000
DTEND;TZID=America/Los_Angeles:20251021T110000
DTSTAMP:20260419T081417
CREATED:20250612T232225Z
LAST-MODIFIED:20250612T232225Z
UID:10006284-1761040800-1761044400@dph.sbcounty.gov
SUMMARY:Bingocize Nutrition and Exercise Class - 29 Palms Senior Center
DESCRIPTION:Bingocize is a fun 10-week health promotion program that combines the game of bingo with inclusive exercises for everyone (seated or standing). Come play bingo and meet new people while learning about nutrition! \nClasses are held every Tuesday and Thursday from Aug. 26 – Oct. 30.
URL:https://dph.sbcounty.gov/event/bingocize-nutrition-and-exercise-class-29-palms-senior-center/2025-10-21/
LOCATION:29 Palms Senior Center\, 6539 Adobe Road\, Twenty-nine Palms\, CA\, United States
CATEGORIES:Nutrition
END:VEVENT
BEGIN:VEVENT
DTSTART;TZID=America/Los_Angeles:20251022T093000
DTEND;TZID=America/Los_Angeles:20251022T103000
DTSTAMP:20260419T081417
CREATED:20250612T231000Z
LAST-MODIFIED:20250612T231000Z
UID:10006209-1761125400-1761129000@dph.sbcounty.gov
SUMMARY:Tai Chi for Arthritis and Fall Prevention - Fifth Street Senior Center
DESCRIPTION:Tai Chi for Arthritis and Fall Prevention is designed to improve multiple aspects of health through slow\, gentle movements. The program is suitable for adults with or without arthritis\, rheumatic\, or musculoskeletal conditions.
URL:https://dph.sbcounty.gov/event/tai-chi-for-arthritis-and-fall-prevention-fifth-street-senior-center/2025-10-22/
LOCATION:5th Street Senior Center\, 600 W. 5th Street\, San Bernardino\, ca\, 92410
CATEGORIES:Nutrition
END:VEVENT
END:VCALENDAR