BEGIN:VCALENDAR
VERSION:2.0
PRODID:-//Department of Public Health - ECPv6.15.14//NONSGML v1.0//EN
CALSCALE:GREGORIAN
METHOD:PUBLISH
X-WR-CALNAME:Department of Public Health
X-ORIGINAL-URL:https://dph.sbcounty.gov
X-WR-CALDESC:Events for Department of Public Health
REFRESH-INTERVAL;VALUE=DURATION:PT1H
X-Robots-Tag:noindex
X-PUBLISHED-TTL:PT1H
BEGIN:VTIMEZONE
TZID:America/Los_Angeles
BEGIN:DAYLIGHT
TZOFFSETFROM:-0800
TZOFFSETTO:-0700
TZNAME:PDT
DTSTART:20240310T100000
END:DAYLIGHT
BEGIN:STANDARD
TZOFFSETFROM:-0700
TZOFFSETTO:-0800
TZNAME:PST
DTSTART:20241103T090000
END:STANDARD
BEGIN:DAYLIGHT
TZOFFSETFROM:-0800
TZOFFSETTO:-0700
TZNAME:PDT
DTSTART:20250309T100000
END:DAYLIGHT
BEGIN:STANDARD
TZOFFSETFROM:-0700
TZOFFSETTO:-0800
TZNAME:PST
DTSTART:20251102T090000
END:STANDARD
BEGIN:DAYLIGHT
TZOFFSETFROM:-0800
TZOFFSETTO:-0700
TZNAME:PDT
DTSTART:20260308T100000
END:DAYLIGHT
BEGIN:STANDARD
TZOFFSETFROM:-0700
TZOFFSETTO:-0800
TZNAME:PST
DTSTART:20261101T090000
END:STANDARD
END:VTIMEZONE
BEGIN:VEVENT
DTSTART;TZID=America/Los_Angeles:20250916T130000
DTEND;TZID=America/Los_Angeles:20250916T170000
DTSTAMP:20260422T050042
CREATED:20250519T180909Z
LAST-MODIFIED:20251231T000918Z
UID:10005331-1758027600-1758042000@dph.sbcounty.gov
SUMMARY:WOW Van Testing Services- San Bernardino Health Center
DESCRIPTION:Wellness on Wheels Flyer \n590 N. D St.\, San Bernardino \n\nRapid HIV\, syphilis\, and hepatitis C testing\nGonorrhea and chlamydia testing\nFree condoms and lubricant\nSexual health education\nAccess to treatment\nNarcan distribution
URL:https://dph.sbcounty.gov/event/wow-van-testing-services-10-2/2025-09-16/
LOCATION:San Bernardino Health Center\, 590 N. D St.\, San Bernardino\, 92401\, United States
CATEGORIES:Communicable Disease
ATTACH;FMTTYPE=image/png:https://dph.sbcounty.gov/wp-content/uploads/sites/7/image-4.png
END:VEVENT
BEGIN:VEVENT
DTSTART;TZID=America/Los_Angeles:20250909T130000
DTEND;TZID=America/Los_Angeles:20250909T170000
DTSTAMP:20260422T050042
CREATED:20250519T180909Z
LAST-MODIFIED:20251231T000918Z
UID:10005328-1757422800-1757437200@dph.sbcounty.gov
SUMMARY:WOW Van Testing Services- San Bernardino Health Center
DESCRIPTION:Wellness on Wheels Flyer \n590 N. D St.\, San Bernardino \n\nRapid HIV\, syphilis\, and hepatitis C testing\nGonorrhea and chlamydia testing\nFree condoms and lubricant\nSexual health education\nAccess to treatment\nNarcan distribution
URL:https://dph.sbcounty.gov/event/wow-van-testing-services-10-2/2025-09-09/
LOCATION:San Bernardino Health Center\, 590 N. D St.\, San Bernardino\, 92401\, United States
CATEGORIES:Communicable Disease
ATTACH;FMTTYPE=image/png:https://dph.sbcounty.gov/wp-content/uploads/sites/7/image-4.png
END:VEVENT
BEGIN:VEVENT
DTSTART;TZID=America/Los_Angeles:20250902T130000
DTEND;TZID=America/Los_Angeles:20250902T170000
DTSTAMP:20260422T050042
CREATED:20250519T180909Z
LAST-MODIFIED:20251231T000918Z
UID:10005325-1756818000-1756832400@dph.sbcounty.gov
SUMMARY:WOW Van Testing Services- San Bernardino Health Center
DESCRIPTION:Wellness on Wheels Flyer \n590 N. D St.\, San Bernardino \n\nRapid HIV\, syphilis\, and hepatitis C testing\nGonorrhea and chlamydia testing\nFree condoms and lubricant\nSexual health education\nAccess to treatment\nNarcan distribution
URL:https://dph.sbcounty.gov/event/wow-van-testing-services-10-2/2025-09-02/
LOCATION:San Bernardino Health Center\, 590 N. D St.\, San Bernardino\, 92401\, United States
CATEGORIES:Communicable Disease
ATTACH;FMTTYPE=image/png:https://dph.sbcounty.gov/wp-content/uploads/sites/7/image-4.png
END:VEVENT
BEGIN:VEVENT
DTSTART;TZID=America/Los_Angeles:20250826T130000
DTEND;TZID=America/Los_Angeles:20250826T170000
DTSTAMP:20260422T050042
CREATED:20250519T180909Z
LAST-MODIFIED:20251231T000918Z
UID:10005322-1756213200-1756227600@dph.sbcounty.gov
SUMMARY:WOW Van Testing Services- San Bernardino Health Center
DESCRIPTION:Wellness on Wheels Flyer \n590 N. D St.\, San Bernardino \n\nRapid HIV\, syphilis\, and hepatitis C testing\nGonorrhea and chlamydia testing\nFree condoms and lubricant\nSexual health education\nAccess to treatment\nNarcan distribution
URL:https://dph.sbcounty.gov/event/wow-van-testing-services-10-2/2025-08-26/
LOCATION:San Bernardino Health Center\, 590 N. D St.\, San Bernardino\, 92401\, United States
CATEGORIES:Communicable Disease
ATTACH;FMTTYPE=image/png:https://dph.sbcounty.gov/wp-content/uploads/sites/7/image-4.png
END:VEVENT
BEGIN:VEVENT
DTSTART;TZID=America/Los_Angeles:20250819T130000
DTEND;TZID=America/Los_Angeles:20250819T170000
DTSTAMP:20260422T050042
CREATED:20250519T180909Z
LAST-MODIFIED:20251231T000918Z
UID:10005319-1755608400-1755622800@dph.sbcounty.gov
SUMMARY:WOW Van Testing Services- San Bernardino Health Center
DESCRIPTION:Wellness on Wheels Flyer \n590 N. D St.\, San Bernardino \n\nRapid HIV\, syphilis\, and hepatitis C testing\nGonorrhea and chlamydia testing\nFree condoms and lubricant\nSexual health education\nAccess to treatment\nNarcan distribution
URL:https://dph.sbcounty.gov/event/wow-van-testing-services-10-2/2025-08-19/
LOCATION:San Bernardino Health Center\, 590 N. D St.\, San Bernardino\, 92401\, United States
CATEGORIES:Communicable Disease
ATTACH;FMTTYPE=image/png:https://dph.sbcounty.gov/wp-content/uploads/sites/7/image-4.png
END:VEVENT
BEGIN:VEVENT
DTSTART;TZID=America/Los_Angeles:20250812T130000
DTEND;TZID=America/Los_Angeles:20250812T170000
DTSTAMP:20260422T050042
CREATED:20250519T180909Z
LAST-MODIFIED:20251231T000918Z
UID:10005316-1755003600-1755018000@dph.sbcounty.gov
SUMMARY:WOW Van Testing Services- San Bernardino Health Center
DESCRIPTION:Wellness on Wheels Flyer \n590 N. D St.\, San Bernardino \n\nRapid HIV\, syphilis\, and hepatitis C testing\nGonorrhea and chlamydia testing\nFree condoms and lubricant\nSexual health education\nAccess to treatment\nNarcan distribution
URL:https://dph.sbcounty.gov/event/wow-van-testing-services-10-2/2025-08-12/
LOCATION:San Bernardino Health Center\, 590 N. D St.\, San Bernardino\, 92401\, United States
CATEGORIES:Communicable Disease
ATTACH;FMTTYPE=image/png:https://dph.sbcounty.gov/wp-content/uploads/sites/7/image-4.png
END:VEVENT
BEGIN:VEVENT
DTSTART;TZID=America/Los_Angeles:20250805T130000
DTEND;TZID=America/Los_Angeles:20250805T170000
DTSTAMP:20260422T050042
CREATED:20250519T180909Z
LAST-MODIFIED:20251231T000918Z
UID:10005313-1754398800-1754413200@dph.sbcounty.gov
SUMMARY:WOW Van Testing Services- San Bernardino Health Center
DESCRIPTION:Wellness on Wheels Flyer \n590 N. D St.\, San Bernardino \n\nRapid HIV\, syphilis\, and hepatitis C testing\nGonorrhea and chlamydia testing\nFree condoms and lubricant\nSexual health education\nAccess to treatment\nNarcan distribution
URL:https://dph.sbcounty.gov/event/wow-van-testing-services-10-2/2025-08-05/
LOCATION:San Bernardino Health Center\, 590 N. D St.\, San Bernardino\, 92401\, United States
CATEGORIES:Communicable Disease
ATTACH;FMTTYPE=image/png:https://dph.sbcounty.gov/wp-content/uploads/sites/7/image-4.png
END:VEVENT
BEGIN:VEVENT
DTSTART;TZID=America/Los_Angeles:20250729T130000
DTEND;TZID=America/Los_Angeles:20250729T170000
DTSTAMP:20260422T050042
CREATED:20250519T180909Z
LAST-MODIFIED:20251231T000918Z
UID:10005310-1753794000-1753808400@dph.sbcounty.gov
SUMMARY:WOW Van Testing Services- San Bernardino Health Center
DESCRIPTION:Wellness on Wheels Flyer \n590 N. D St.\, San Bernardino \n\nRapid HIV\, syphilis\, and hepatitis C testing\nGonorrhea and chlamydia testing\nFree condoms and lubricant\nSexual health education\nAccess to treatment\nNarcan distribution
URL:https://dph.sbcounty.gov/event/wow-van-testing-services-10-2/2025-07-29/
LOCATION:San Bernardino Health Center\, 590 N. D St.\, San Bernardino\, 92401\, United States
CATEGORIES:Communicable Disease
ATTACH;FMTTYPE=image/png:https://dph.sbcounty.gov/wp-content/uploads/sites/7/image-4.png
END:VEVENT
BEGIN:VEVENT
DTSTART;TZID=America/Los_Angeles:20250722T130000
DTEND;TZID=America/Los_Angeles:20250722T170000
DTSTAMP:20260422T050042
CREATED:20250519T180909Z
LAST-MODIFIED:20251231T000918Z
UID:10005307-1753189200-1753203600@dph.sbcounty.gov
SUMMARY:WOW Van Testing Services- San Bernardino Health Center
DESCRIPTION:Wellness on Wheels Flyer \n590 N. D St.\, San Bernardino \n\nRapid HIV\, syphilis\, and hepatitis C testing\nGonorrhea and chlamydia testing\nFree condoms and lubricant\nSexual health education\nAccess to treatment\nNarcan distribution
URL:https://dph.sbcounty.gov/event/wow-van-testing-services-10-2/2025-07-22/
LOCATION:San Bernardino Health Center\, 590 N. D St.\, San Bernardino\, 92401\, United States
CATEGORIES:Communicable Disease
ATTACH;FMTTYPE=image/png:https://dph.sbcounty.gov/wp-content/uploads/sites/7/image-4.png
END:VEVENT
BEGIN:VEVENT
DTSTART;TZID=America/Los_Angeles:20250715T130000
DTEND;TZID=America/Los_Angeles:20250715T170000
DTSTAMP:20260422T050042
CREATED:20250519T180909Z
LAST-MODIFIED:20251231T000918Z
UID:10005304-1752584400-1752598800@dph.sbcounty.gov
SUMMARY:WOW Van Testing Services- San Bernardino Health Center
DESCRIPTION:Wellness on Wheels Flyer \n590 N. D St.\, San Bernardino \n\nRapid HIV\, syphilis\, and hepatitis C testing\nGonorrhea and chlamydia testing\nFree condoms and lubricant\nSexual health education\nAccess to treatment\nNarcan distribution
URL:https://dph.sbcounty.gov/event/wow-van-testing-services-10-2/2025-07-15/
LOCATION:San Bernardino Health Center\, 590 N. D St.\, San Bernardino\, 92401\, United States
CATEGORIES:Communicable Disease
ATTACH;FMTTYPE=image/png:https://dph.sbcounty.gov/wp-content/uploads/sites/7/image-4.png
END:VEVENT
BEGIN:VEVENT
DTSTART;TZID=America/Los_Angeles:20250708T130000
DTEND;TZID=America/Los_Angeles:20250708T170000
DTSTAMP:20260422T050042
CREATED:20250519T180909Z
LAST-MODIFIED:20251231T000918Z
UID:10005301-1751979600-1751994000@dph.sbcounty.gov
SUMMARY:WOW Van Testing Services- San Bernardino Health Center
DESCRIPTION:Wellness on Wheels Flyer \n590 N. D St.\, San Bernardino \n\nRapid HIV\, syphilis\, and hepatitis C testing\nGonorrhea and chlamydia testing\nFree condoms and lubricant\nSexual health education\nAccess to treatment\nNarcan distribution
URL:https://dph.sbcounty.gov/event/wow-van-testing-services-10-2/2025-07-08/
LOCATION:San Bernardino Health Center\, 590 N. D St.\, San Bernardino\, 92401\, United States
CATEGORIES:Communicable Disease
ATTACH;FMTTYPE=image/png:https://dph.sbcounty.gov/wp-content/uploads/sites/7/image-4.png
END:VEVENT
BEGIN:VEVENT
DTSTART;TZID=America/Los_Angeles:20250701T130000
DTEND;TZID=America/Los_Angeles:20250701T170000
DTSTAMP:20260422T050042
CREATED:20250519T180909Z
LAST-MODIFIED:20251231T000918Z
UID:10005298-1751374800-1751389200@dph.sbcounty.gov
SUMMARY:WOW Van Testing Services- San Bernardino Health Center
DESCRIPTION:Wellness on Wheels Flyer \n590 N. D St.\, San Bernardino \n\nRapid HIV\, syphilis\, and hepatitis C testing\nGonorrhea and chlamydia testing\nFree condoms and lubricant\nSexual health education\nAccess to treatment\nNarcan distribution
URL:https://dph.sbcounty.gov/event/wow-van-testing-services-10-2/2025-07-01/
LOCATION:San Bernardino Health Center\, 590 N. D St.\, San Bernardino\, 92401\, United States
CATEGORIES:Communicable Disease
ATTACH;FMTTYPE=image/png:https://dph.sbcounty.gov/wp-content/uploads/sites/7/image-4.png
END:VEVENT
BEGIN:VEVENT
DTSTART;TZID=America/Los_Angeles:20250624T130000
DTEND;TZID=America/Los_Angeles:20250624T170000
DTSTAMP:20260422T050042
CREATED:20250519T180909Z
LAST-MODIFIED:20251231T000918Z
UID:10005295-1750770000-1750784400@dph.sbcounty.gov
SUMMARY:WOW Van Testing Services- San Bernardino Health Center
DESCRIPTION:Wellness on Wheels Flyer \n590 N. D St.\, San Bernardino \n\nRapid HIV\, syphilis\, and hepatitis C testing\nGonorrhea and chlamydia testing\nFree condoms and lubricant\nSexual health education\nAccess to treatment\nNarcan distribution
URL:https://dph.sbcounty.gov/event/wow-van-testing-services-10-2/2025-06-24/
LOCATION:San Bernardino Health Center\, 590 N. D St.\, San Bernardino\, 92401\, United States
CATEGORIES:Communicable Disease
ATTACH;FMTTYPE=image/png:https://dph.sbcounty.gov/wp-content/uploads/sites/7/image-4.png
END:VEVENT
BEGIN:VEVENT
DTSTART;TZID=America/Los_Angeles:20250617T130000
DTEND;TZID=America/Los_Angeles:20250617T170000
DTSTAMP:20260422T050042
CREATED:20250519T180909Z
LAST-MODIFIED:20251231T000918Z
UID:10005292-1750165200-1750179600@dph.sbcounty.gov
SUMMARY:WOW Van Testing Services- San Bernardino Health Center
DESCRIPTION:Wellness on Wheels Flyer \n590 N. D St.\, San Bernardino \n\nRapid HIV\, syphilis\, and hepatitis C testing\nGonorrhea and chlamydia testing\nFree condoms and lubricant\nSexual health education\nAccess to treatment\nNarcan distribution
URL:https://dph.sbcounty.gov/event/wow-van-testing-services-10-2/2025-06-17/
LOCATION:San Bernardino Health Center\, 590 N. D St.\, San Bernardino\, 92401\, United States
CATEGORIES:Communicable Disease
ATTACH;FMTTYPE=image/png:https://dph.sbcounty.gov/wp-content/uploads/sites/7/image-4.png
END:VEVENT
BEGIN:VEVENT
DTSTART;TZID=America/Los_Angeles:20250610T130000
DTEND;TZID=America/Los_Angeles:20250610T170000
DTSTAMP:20260422T050042
CREATED:20250519T180909Z
LAST-MODIFIED:20251231T000918Z
UID:10005289-1749560400-1749574800@dph.sbcounty.gov
SUMMARY:WOW Van Testing Services- San Bernardino Health Center
DESCRIPTION:Wellness on Wheels Flyer \n590 N. D St.\, San Bernardino \n\nRapid HIV\, syphilis\, and hepatitis C testing\nGonorrhea and chlamydia testing\nFree condoms and lubricant\nSexual health education\nAccess to treatment\nNarcan distribution
URL:https://dph.sbcounty.gov/event/wow-van-testing-services-10-2/2025-06-10/
LOCATION:San Bernardino Health Center\, 590 N. D St.\, San Bernardino\, 92401\, United States
CATEGORIES:Communicable Disease
ATTACH;FMTTYPE=image/png:https://dph.sbcounty.gov/wp-content/uploads/sites/7/image-4.png
END:VEVENT
BEGIN:VEVENT
DTSTART;TZID=America/Los_Angeles:20250604T100000
DTEND;TZID=America/Los_Angeles:20250604T130000
DTSTAMP:20260422T050042
CREATED:20250331T161807Z
LAST-MODIFIED:20250331T161807Z
UID:10005263-1749031200-1749042000@dph.sbcounty.gov
SUMMARY:WOW Van Testing Services-  San Bernardino Valley College
DESCRIPTION:Wellness on Wheels Flyer \n• Rapid HIV\, syphilis\, and hepatitis C testing• Gonorrhea and chlamydia testing• Free condoms and lubricant• Sexual health education• Access to treatment
URL:https://dph.sbcounty.gov/event/wow-van-testing-services-san-bernardino-valley-college-7/
LOCATION:San Bernadino Valley College\, 701 S. Mount Vernon Avenue\, San Bernardino\, CA\, 92410\, United States
CATEGORIES:Communicable Disease
END:VEVENT
BEGIN:VEVENT
DTSTART;TZID=America/Los_Angeles:20250603T130000
DTEND;TZID=America/Los_Angeles:20250603T170000
DTSTAMP:20260422T050042
CREATED:20250519T180909Z
LAST-MODIFIED:20251231T000918Z
UID:10005286-1748955600-1748970000@dph.sbcounty.gov
SUMMARY:WOW Van Testing Services- San Bernardino Health Center
DESCRIPTION:Wellness on Wheels Flyer \n590 N. D St.\, San Bernardino \n\nRapid HIV\, syphilis\, and hepatitis C testing\nGonorrhea and chlamydia testing\nFree condoms and lubricant\nSexual health education\nAccess to treatment\nNarcan distribution
URL:https://dph.sbcounty.gov/event/wow-van-testing-services-10-2/2025-06-03/
LOCATION:San Bernardino Health Center\, 590 N. D St.\, San Bernardino\, 92401\, United States
CATEGORIES:Communicable Disease
ATTACH;FMTTYPE=image/png:https://dph.sbcounty.gov/wp-content/uploads/sites/7/image-4.png
END:VEVENT
BEGIN:VEVENT
DTSTART;TZID=America/Los_Angeles:20250529T110000
DTEND;TZID=America/Los_Angeles:20250529T150000
DTSTAMP:20260422T050042
CREATED:20250331T161619Z
LAST-MODIFIED:20250331T161619Z
UID:10005257-1748516400-1748530800@dph.sbcounty.gov
SUMMARY:WOW Van Testing Services- Cal State University San Bernardino
DESCRIPTION:Wellness on Wheels Flyer \n• Rapid HIV\, syphilis\, and hepatitis C testing• Gonorrhea and chlamydia testing• Free condoms and lubricant• Sexual health education• Access to treatment
URL:https://dph.sbcounty.gov/event/wow-van-testing-services-cal-state-university-san-bernardino-2/
LOCATION:CSUSB\, 5500 University Pkwy\,\, San Bernardino\, CA\, 92407\, United States
CATEGORIES:Communicable Disease
END:VEVENT
BEGIN:VEVENT
DTSTART;TZID=America/Los_Angeles:20250527T130000
DTEND;TZID=America/Los_Angeles:20250527T170000
DTSTAMP:20260422T050042
CREATED:20250519T180909Z
LAST-MODIFIED:20251231T000918Z
UID:10005283-1748350800-1748365200@dph.sbcounty.gov
SUMMARY:WOW Van Testing Services- San Bernardino Health Center
DESCRIPTION:Wellness on Wheels Flyer \n590 N. D St.\, San Bernardino \n\nRapid HIV\, syphilis\, and hepatitis C testing\nGonorrhea and chlamydia testing\nFree condoms and lubricant\nSexual health education\nAccess to treatment\nNarcan distribution
URL:https://dph.sbcounty.gov/event/wow-van-testing-services-10-2/2025-05-27/
LOCATION:San Bernardino Health Center\, 590 N. D St.\, San Bernardino\, 92401\, United States
CATEGORIES:Communicable Disease
ATTACH;FMTTYPE=image/png:https://dph.sbcounty.gov/wp-content/uploads/sites/7/image-4.png
END:VEVENT
BEGIN:VEVENT
DTSTART;TZID=America/Los_Angeles:20250520T130000
DTEND;TZID=America/Los_Angeles:20250520T170000
DTSTAMP:20260422T050042
CREATED:20250519T180909Z
LAST-MODIFIED:20251231T000918Z
UID:10005280-1747746000-1747760400@dph.sbcounty.gov
SUMMARY:WOW Van Testing Services- San Bernardino Health Center
DESCRIPTION:Wellness on Wheels Flyer \n590 N. D St.\, San Bernardino \n\nRapid HIV\, syphilis\, and hepatitis C testing\nGonorrhea and chlamydia testing\nFree condoms and lubricant\nSexual health education\nAccess to treatment\nNarcan distribution
URL:https://dph.sbcounty.gov/event/wow-van-testing-services-10-2/2025-05-20/
LOCATION:San Bernardino Health Center\, 590 N. D St.\, San Bernardino\, 92401\, United States
CATEGORIES:Communicable Disease
ATTACH;FMTTYPE=image/png:https://dph.sbcounty.gov/wp-content/uploads/sites/7/image-4.png
END:VEVENT
BEGIN:VEVENT
DTSTART;TZID=America/Los_Angeles:20250513T130000
DTEND;TZID=America/Los_Angeles:20250513T170000
DTSTAMP:20260422T050042
CREATED:20250513T175705Z
LAST-MODIFIED:20250513T182001Z
UID:10005277-1747141200-1747155600@dph.sbcounty.gov
SUMMARY:WOW Van Testing Services- Easy Access Clinic
DESCRIPTION:Wellness on Wheels Flyer \n590 N. D St.\, San Bernardino \n• Rapid HIV\, syphilis\, and hepatitis C testing\n• Gonorrhea and chlamydia testing\n• Free condoms and lubricant\n• Sexual health education\n• Access to treatment
URL:https://dph.sbcounty.gov/event/wow-van-testing-services-easy-access-clinic-10/
LOCATION:San Bernardino Health Center\, 590 N. D St.\, San Bernardino\, 92401\, United States
CATEGORIES:Communicable Disease
END:VEVENT
BEGIN:VEVENT
DTSTART;TZID=America/Los_Angeles:20250507T100000
DTEND;TZID=America/Los_Angeles:20250507T130000
DTSTAMP:20260422T050042
CREATED:20250331T161519Z
LAST-MODIFIED:20250331T161519Z
UID:10005254-1746612000-1746622800@dph.sbcounty.gov
SUMMARY:WOW Van Testing Services-  San Bernardino Valley College
DESCRIPTION:Wellness on Wheels Flyer \n• Rapid HIV\, syphilis\, and hepatitis C testing• Gonorrhea and chlamydia testing• Free condoms and lubricant• Sexual health education• Access to treatment
URL:https://dph.sbcounty.gov/event/wow-van-testing-services-san-bernardino-valley-college-6/
LOCATION:San Bernadino Valley College\, 701 S. Mount Vernon Avenue\, San Bernardino\, CA\, 92410\, United States
CATEGORIES:Communicable Disease
END:VEVENT
BEGIN:VEVENT
DTSTART;TZID=America/Los_Angeles:20250424T110000
DTEND;TZID=America/Los_Angeles:20250424T150000
DTSTAMP:20260422T050042
CREATED:20250331T161406Z
LAST-MODIFIED:20250331T161406Z
UID:10005251-1745492400-1745506800@dph.sbcounty.gov
SUMMARY:WOW Van Testing Services- Cal State University San Bernardino
DESCRIPTION:Wellness on Wheels Flyer \n• Rapid HIV\, syphilis\, and hepatitis C testing• Gonorrhea and chlamydia testing• Free condoms and lubricant• Sexual health education• Access to treatment
URL:https://dph.sbcounty.gov/event/wow-van-testing-services-cal-state-university-san-bernardino/
LOCATION:CSUSB\, 5500 University Pkwy\,\, San Bernardino\, CA\, 92407\, United States
CATEGORIES:Communicable Disease
END:VEVENT
BEGIN:VEVENT
DTSTART;TZID=America/Los_Angeles:20250402T100000
DTEND;TZID=America/Los_Angeles:20250402T130000
DTSTAMP:20260422T050042
CREATED:20250331T161247Z
LAST-MODIFIED:20250331T161247Z
UID:10005248-1743588000-1743598800@dph.sbcounty.gov
SUMMARY:WOW Van Testing Services-  San Bernardino Valley College
DESCRIPTION:Wellness on Wheels Flyer \n• Rapid HIV\, syphilis\, and hepatitis C testing• Gonorrhea and chlamydia testing• Free condoms and lubricant• Sexual health education• Access to treatment
URL:https://dph.sbcounty.gov/event/wow-van-testing-services-san-bernardino-valley-college-5/
LOCATION:San Bernadino Valley College\, 701 S. Mount Vernon Avenue\, San Bernardino\, CA\, 92410\, United States
CATEGORIES:Communicable Disease
END:VEVENT
BEGIN:VEVENT
DTSTART;TZID=America/Los_Angeles:20250305T100000
DTEND;TZID=America/Los_Angeles:20250305T130000
DTSTAMP:20260422T050042
CREATED:20250102T170018Z
LAST-MODIFIED:20250211T163822Z
UID:10004817-1741168800-1741179600@dph.sbcounty.gov
SUMMARY:WOW Van Testing Services-  San Bernadino Valley College
DESCRIPTION:Wellness on Wheels Flyer \n• Rapid HIV\, syphilis\, and hepatitis C testing• Gonorrhea and chlamydia testing• Free condoms and lubricant• Sexual health education• Access to treatment
URL:https://dph.sbcounty.gov/event/wow-van-testing-services-san-bernadino-valley-college-2/
LOCATION:San Bernadino Valley College\, 701 S. Mount Vernon Avenue\, San Bernardino\, CA\, 92410\, United States
CATEGORIES:Communicable Disease
END:VEVENT
BEGIN:VEVENT
DTSTART;TZID=America/Los_Angeles:20250227T110000
DTEND;TZID=America/Los_Angeles:20250227T150000
DTSTAMP:20260422T050042
CREATED:20250102T165809Z
LAST-MODIFIED:20250102T180200Z
UID:10004814-1740654000-1740668400@dph.sbcounty.gov
SUMMARY:WOW Van Testing Services- Cal State University San Bernardino
DESCRIPTION:Wellness on Wheels Flyer \n• Rapid HIV\, syphilis\, and hepatitis C testing• Gonorrhea and chlamydia testing• Free condoms and lubricant• Sexual health education• Access to treatment
URL:https://dph.sbcounty.gov/event/wow-van-testing-services-cal-state-university-san-bernadino-5/
LOCATION:CSUSB\, 5500 University Pkwy\,\, San Bernardino\, CA\, 92407\, United States
CATEGORIES:Communicable Disease
END:VEVENT
BEGIN:VEVENT
DTSTART;TZID=America/Los_Angeles:20250218T103000
DTEND;TZID=America/Los_Angeles:20250218T143000
DTSTAMP:20260422T050042
CREATED:20250128T155835Z
LAST-MODIFIED:20250128T155836Z
UID:10004855-1739874600-1739889000@dph.sbcounty.gov
SUMMARY:Big Bear Valley Senior Center – Flu and COVID-19 Vaccination Event
DESCRIPTION:Big Bear Valley Senior Center\nTuesday\, February 18\, 2025\n42651 Big Bear Blvd.\, Big Bear LakeHours: 10:30 a.m. – 2:30 p.m.\nRegister at MyTurn.ca.gov \nSan Bernardino County residents are eligible to receive a free updated flu and/or COVID-19 vaccine. No insurance is necessary! Appointments are encouraged\, walk-ins are welcome! \nFlu vaccines are available for those 3 years and older. Moderna vaccines are available for those 6 months and older.
URL:https://dph.sbcounty.gov/event/big-bear-valley-senior-center-flu-and-covid-19-vaccination-event/
LOCATION:Big Bear Valley Senior Center\, 42651 Big Bear Blvd\, Big Bear Lake\, CA\, 92314\, United States
CATEGORIES:COVID-19 Vaccination Event,Flu Vaccine Clinic
ATTACH;FMTTYPE=image/png:https://dph.sbcounty.gov/wp-content/uploads/sites/7/Flu-2425-logo.png
END:VEVENT
BEGIN:VEVENT
DTSTART;TZID=America/Los_Angeles:20250214T100000
DTEND;TZID=America/Los_Angeles:20250214T150000
DTSTAMP:20260422T050042
CREATED:20250128T155220Z
LAST-MODIFIED:20250128T155220Z
UID:10004852-1739527200-1739545200@dph.sbcounty.gov
SUMMARY:Gibson Senior Center – Flu and COVID-19 Vaccination Event
DESCRIPTION:Gibson Senior Center\nFriday\, February 14\, 2025\n250 N 3rd Ave.\, UplandHours: 10 a.m. – 3 p.m.\nRegister at MyTurn.ca.gov \nSan Bernardino County residents are eligible to receive a free updated flu and/or COVID-19 vaccine. No insurance is necessary! Appointments are encouraged\, walk-ins are welcome! \nFlu vaccines are available for those 3 years and older. Moderna vaccines are available for those 6 months and older.
URL:https://dph.sbcounty.gov/event/gibson-senior-center-flu-and-covid-19-vaccination-event-10/
LOCATION:Gibson Senior Center\, 250 N 3rd Ave\, Upland\, CA\, 91786\, United States
CATEGORIES:COVID-19 Vaccination Event,Flu Vaccine Clinic
ATTACH;FMTTYPE=image/png:https://dph.sbcounty.gov/wp-content/uploads/sites/7/Flu-2425-logo.png
END:VEVENT
BEGIN:VEVENT
DTSTART;TZID=America/Los_Angeles:20250213T090000
DTEND;TZID=America/Los_Angeles:20250213T140000
DTSTAMP:20260422T050042
CREATED:20250127T220147Z
LAST-MODIFIED:20250127T220148Z
UID:10004849-1739437200-1739455200@dph.sbcounty.gov
SUMMARY:Consulado de Mexico in San Bernardino – Flu and COVID-19 Vaccination Event
DESCRIPTION:Consulado de Mexico\nThursday\, February 13\, 2025\n293 N D St.\nSan BernardinoHours: 9 a.m. – 2 p.m.\nRegister at MyTurn.ca.gov \nSan Bernardino County residents are eligible to receive a free updated flu and/or COVID-19 vaccine. No insurance is necessary! Appointments are encouraged\, walk-ins are welcome! \nFlu vaccines are available for those 3 years and older. Moderna vaccines are available for those 6 months and older.
URL:https://dph.sbcounty.gov/event/consulado-de-mexico-in-san-bernardino-flu-and-covid-19-vaccination-event-4/
LOCATION:Consulado de Mexico in San Bernardino\, 293 N D St.\, San Bernardino\, CA\, 92401\, United States
CATEGORIES:COVID-19 Vaccination Event,Flu Vaccine Clinic
ATTACH;FMTTYPE=image/png:https://dph.sbcounty.gov/wp-content/uploads/sites/7/Flu-2425-logo.png
END:VEVENT
BEGIN:VEVENT
DTSTART;TZID=America/Los_Angeles:20250212T110000
DTEND;TZID=America/Los_Angeles:20250212T140000
DTSTAMP:20260422T050042
CREATED:20250127T215910Z
LAST-MODIFIED:20250127T215910Z
UID:10004846-1739358000-1739368800@dph.sbcounty.gov
SUMMARY:Joshua Tree Community Center Resource Fair – Flu and COVID-19 Vaccination Event
DESCRIPTION:Joshua Tree Community Center Flu Vaccine Clinic\nWednesday\, February 12\, 2025\n6171 Sunburst St\, Joshua TreeHours: 11:00 a.m. – 2:00 p.m.\nRegister at MyTurn.ca.gov \nSan Bernardino County residents are eligible to receive a free updated flu and/or COVID-19 vaccine. No insurance is necessary! Appointments are encouraged\, walk-ins are welcome! \nFlu vaccines are available for those 3 years and older. Moderna vaccines are available for those 6 months and older.
URL:https://dph.sbcounty.gov/event/joshua-tree-community-center-resource-fair-flu-and-covid-19-vaccination-event/
LOCATION:Joshua Tree Community Center\, 6171 Sunburst St\, Joshua Tree\, CA\, 92252\, United States
CATEGORIES:COVID-19 Vaccination Event,Flu Vaccine Clinic
ATTACH;FMTTYPE=image/png:https://dph.sbcounty.gov/wp-content/uploads/sites/7/Flu-2425-logo.png
END:VEVENT
END:VCALENDAR