BEGIN:VCALENDAR
VERSION:2.0
PRODID:-//Department of Public Health - ECPv6.15.14//NONSGML v1.0//EN
CALSCALE:GREGORIAN
METHOD:PUBLISH
X-ORIGINAL-URL:https://dph.sbcounty.gov
X-WR-CALDESC:Events for Department of Public Health
REFRESH-INTERVAL;VALUE=DURATION:PT1H
X-Robots-Tag:noindex
X-PUBLISHED-TTL:PT1H
BEGIN:VTIMEZONE
TZID:America/Los_Angeles
BEGIN:DAYLIGHT
TZOFFSETFROM:-0800
TZOFFSETTO:-0700
TZNAME:PDT
DTSTART:20230312T100000
END:DAYLIGHT
BEGIN:STANDARD
TZOFFSETFROM:-0700
TZOFFSETTO:-0800
TZNAME:PST
DTSTART:20231105T090000
END:STANDARD
BEGIN:DAYLIGHT
TZOFFSETFROM:-0800
TZOFFSETTO:-0700
TZNAME:PDT
DTSTART:20240310T100000
END:DAYLIGHT
BEGIN:STANDARD
TZOFFSETFROM:-0700
TZOFFSETTO:-0800
TZNAME:PST
DTSTART:20241103T090000
END:STANDARD
BEGIN:DAYLIGHT
TZOFFSETFROM:-0800
TZOFFSETTO:-0700
TZNAME:PDT
DTSTART:20250309T100000
END:DAYLIGHT
BEGIN:STANDARD
TZOFFSETFROM:-0700
TZOFFSETTO:-0800
TZNAME:PST
DTSTART:20251102T090000
END:STANDARD
END:VTIMEZONE
BEGIN:VEVENT
DTSTART;TZID=America/Los_Angeles:20241113T110000
DTEND;TZID=America/Los_Angeles:20241113T130000
DTSTAMP:20260423T000304
CREATED:20241004T164802Z
LAST-MODIFIED:20250102T180041Z
UID:10004461-1731495600-1731502800@dph.sbcounty.gov
SUMMARY:WOW Van Testing Services- Cal State University San Bernardino
DESCRIPTION:Wellness on Wheels Flyer \n• Rapid HIV\, syphilis\, and hepatitis C testing• Gonorrhea and chlamydia testing• Free condoms and lubricant• Sexual health education• Access to treatment
URL:https://dph.sbcounty.gov/event/wow-van-testing-services-cal-state-university-san-bernadino-2/
LOCATION:CSUSB\, 5500 University Pkwy\,\, San Bernardino\, CA\, 92407\, United States
CATEGORIES:Communicable Disease
END:VEVENT
BEGIN:VEVENT
DTSTART;TZID=America/Los_Angeles:20241112T130000
DTEND;TZID=America/Los_Angeles:20241112T170000
DTSTAMP:20260423T000304
CREATED:20241107T205753Z
LAST-MODIFIED:20241107T205753Z
UID:10004768-1731416400-1731430800@dph.sbcounty.gov
SUMMARY:WOW Van Testing - Easy Access Clinic
DESCRIPTION:Wellness on Wheels Flyer \n• Rapid HIV\, syphilis\, and hepatitis C testing• Gonorrhea and chlamydia testing• Free condoms and lubricant• Sexual health education• Access to treatment
URL:https://dph.sbcounty.gov/event/wow-van-testing-easy-access-clinic/
LOCATION:San Bernardino Health Center\, 590 N. D St.\, San Bernardino\, 92401\, United States
CATEGORIES:Communicable Disease
END:VEVENT
BEGIN:VEVENT
DTSTART;TZID=America/Los_Angeles:20241107T090000
DTEND;TZID=America/Los_Angeles:20241107T170000
DTSTAMP:20260423T000304
CREATED:20241023T215330Z
LAST-MODIFIED:20241102T000932Z
UID:10004745-1730970000-1730998800@dph.sbcounty.gov
SUMMARY:Grace Vargas Senior Center – Flu and COVID-19 Vaccination Event
DESCRIPTION:Grace Vargas Senior Center\nThursday\, November 7\, 2024 \n1411 S. Riverside Ave. \nRialto \nHours: 9 a.m. – 5 p.m. \nRegister at MyTurn.ca.gov \nSan Bernardino County residents are eligible to receive a free updated flu and/or COVID-19 vaccine. No insurance is necessary! Appointments are encouraged\, walk-ins are welcome! \nFlu vaccines are available for those 3 years and older. Moderna vaccines are available for those 6 months and older.
URL:https://dph.sbcounty.gov/event/grace-vargas-senior-center-flu-and-covid-19-vaccination-event-february-27-200-pm-500-pm-free/
LOCATION:Grace Vargas Senior Center\, 1411 S. Riverside Ave.\, Rialto\, CA\, 92376\, United States
CATEGORIES:COVID-19 Vaccination Event,Flu Vaccine Clinic
ATTACH;FMTTYPE=image/png:https://dph.sbcounty.gov/wp-content/uploads/sites/7/Flu-2425-logo.png
END:VEVENT
BEGIN:VEVENT
DTSTART;TZID=America/Los_Angeles:20241107T090000
DTEND;TZID=America/Los_Angeles:20241107T150000
DTSTAMP:20260423T000304
CREATED:20241023T215729Z
LAST-MODIFIED:20241102T001104Z
UID:10004748-1730970000-1730991600@dph.sbcounty.gov
SUMMARY:Helendale Community Services District – Flu and COVID-19 Vaccination Event
DESCRIPTION:Helendale Community Services District (CSD)\nThursday\, November 7\, 2024 \n26540 Vista Rd \nHelendale \nHours: 9 a.m. – 3 p.m. \n\nRegister at MyTurn.ca.gov \nSan Bernardino County residents are eligible to receive a free updated flu and/or COVID-19 vaccine. No insurance is necessary! Appointments are encouraged\, walk-ins are welcome! \nFlu vaccines are available for those 3 years and older. Moderna vaccines are available for those 6 months and older.
URL:https://dph.sbcounty.gov/event/helendale-flu-and-covid-clinic-flu-and-covid-19-vaccination-event/
LOCATION:Helendale CSD-Senior Center\, 26540 Vista Rd\, Helendale \, CA\, 92342\, United States
CATEGORIES:COVID-19 Vaccination Event,Flu Vaccine Clinic
ATTACH;FMTTYPE=image/png:https://dph.sbcounty.gov/wp-content/uploads/sites/7/Flu-2425-logo.png
END:VEVENT
BEGIN:VEVENT
DTSTART;TZID=America/Los_Angeles:20241102T080000
DTEND;TZID=America/Los_Angeles:20241102T170000
DTSTAMP:20260423T000304
CREATED:20241023T214953Z
LAST-MODIFIED:20241023T214954Z
UID:10004742-1730534400-1730566800@dph.sbcounty.gov
SUMMARY:Hopes Community Health Day @ Adelanto Plaza and Event Center – Flu and COVID-19 Vaccination Event
DESCRIPTION:Saturday\, November 2\, 2024 \n12000 Stadium Way \nAdelanto \nHours: TBD \nRegister at MyTurn.ca.gov \nSan Bernardino County residents are eligible to receive a free updated flu and/or COVID-19 vaccine. No insurance is necessary! Appointments are encouraged; walk-ins are welcome! \nFlu vaccines are available for those 3 years and older. Moderna vaccines are available for those 6 months and older.
URL:https://dph.sbcounty.gov/event/hopes-community-health-day-adelanto-plaza-and-event-center-flu-and-covid-19-vaccination-event/
LOCATION:Adelanto Plaza and Event Center\, 12000 Stadium Way\, Adelanto\, CA\, 92301\, United States
CATEGORIES:COVID-19 Vaccination Event,Flu Vaccine Clinic
END:VEVENT
BEGIN:VEVENT
DTSTART;TZID=America/Los_Angeles:20241101T110000
DTEND;TZID=America/Los_Angeles:20241101T150000
DTSTAMP:20260423T000304
CREATED:20241023T214633Z
LAST-MODIFIED:20241102T000621Z
UID:10004739-1730458800-1730473200@dph.sbcounty.gov
SUMMARY:Haven Post Acute  –  Flu and COVID-19 Vaccination Event
DESCRIPTION:Haven Post Acute\nFriday\, November 1\, 2024\n1311 E. Date St.\nSan BernardinoHours: 11 a.m. – 3 p.m.\nRegister at MyTurn.ca.gov \nSan Bernardino County residents are eligible to receive a free updated flu and/or COVID-19 vaccine. No insurance is necessary! Appointments are encouraged\, walk-ins are welcome! \nFlu vaccines are available for those 3 years and older. Moderna vaccines are available for those 6 months and older.
URL:https://dph.sbcounty.gov/event/haven-post-acute-2024-2025-vaccine-clinic-flu-and-covid-19-vaccination-event/
LOCATION:Haven Post Acute\, 1311 E. Date St\, San Bernardino\, CA\, 92404\, United States
CATEGORIES:COVID-19 Vaccination Event,Flu Vaccine Clinic
ATTACH;FMTTYPE=image/png:https://dph.sbcounty.gov/wp-content/uploads/sites/7/Flu-2425-logo.png
END:VEVENT
BEGIN:VEVENT
DTSTART;TZID=America/Los_Angeles:20241030T090000
DTEND;TZID=America/Los_Angeles:20241030T140000
DTSTAMP:20260423T000304
CREATED:20241023T161909Z
LAST-MODIFIED:20241023T161909Z
UID:10004736-1730278800-1730296800@dph.sbcounty.gov
SUMMARY:Consulado de Mexico in San Bernardino – Flu and COVID-19 Vaccination Event
DESCRIPTION:Wednesday\, October 30\, 2024 \n293 N D St. \nSan Bernardino \nHours: 9 a.m. – 2 p.m. \nRegister at MyTurn.ca.gov \nSan Bernardino County residents are eligible to receive a free updated flu and/or COVID-19 vaccine. No insurance is necessary! Appointments are encouraged; walk-ins are welcome! \nFlu vaccines are available for those 3 years and older. Moderna vaccines are available for those 6 months and older.
URL:https://dph.sbcounty.gov/event/consulado-de-mexico-in-san-bernardino-flu-and-covid-19-vaccination-event/
LOCATION:Consulado de Mexico in San Bernardino\, 293 N D St.\, San Bernardino\, CA\, 92401\, United States
CATEGORIES:COVID-19 Vaccination Event,Flu Vaccine Clinic
END:VEVENT
BEGIN:VEVENT
DTSTART;TZID=America/Los_Angeles:20241029T090000
DTEND;TZID=America/Los_Angeles:20241029T120000
DTSTAMP:20260423T000304
CREATED:20241023T161311Z
LAST-MODIFIED:20241023T161312Z
UID:10004733-1730192400-1730203200@dph.sbcounty.gov
SUMMARY:Montclair Community Center – Flu and COVID-19 Vaccination Event
DESCRIPTION:Tuesday\, October 29\, 2024 \n5111 Benito St \nMontclair \nHours: 9 a.m. – 12 p.m. \nRegister at MyTurn.ca.gov \nSan Bernardino County residents are eligible to receive a free updated flu and/or COVID-19 vaccine. No insurance is necessary! Appointments are encouraged; walk-ins are welcome! \nFlu vaccines are available for those 3 years and older. Moderna vaccines are available for those 6 months and older.
URL:https://dph.sbcounty.gov/event/montclair-community-center-flu-and-covid-19-vaccination-event/
LOCATION:Montclair Community Center\, 5111 Benito St\, Montclair\, CA\, 91763\, United States
CATEGORIES:COVID-19 Vaccination Event,Flu Vaccine Clinic
END:VEVENT
BEGIN:VEVENT
DTSTART;TZID=America/Los_Angeles:20241028T100000
DTEND;TZID=America/Los_Angeles:20241028T150000
DTSTAMP:20260423T000304
CREATED:20241023T160848Z
LAST-MODIFIED:20241023T160849Z
UID:10004730-1730109600-1730127600@dph.sbcounty.gov
SUMMARY:School Vaccination Event – St. Mary Medical Health Center
DESCRIPTION:Monday\, October 28\, 2024 \n18077 Outer Hwy 18 South \nApple Valley \nHours: 10 a.m. – 3 p.m. \n 
URL:https://dph.sbcounty.gov/event/school-vaccination-event-st-mary-medical-health-center/
LOCATION:St. Mary Medical Center- Apple Valley\, 18077 Outer Hwy 18 South\, Apple Valley\, CA\, 92307\, United States
CATEGORIES:Communicable Disease,School-Based Vacine Services
END:VEVENT
BEGIN:VEVENT
DTSTART;TZID=America/Los_Angeles:20241025T100000
DTEND;TZID=America/Los_Angeles:20241025T150000
DTSTAMP:20260423T000304
CREATED:20241023T160401Z
LAST-MODIFIED:20241023T160424Z
UID:10004727-1729850400-1729868400@dph.sbcounty.gov
SUMMARY:School Vaccination Event – St. Mary Medical Center
DESCRIPTION:Friday\, October 25\, 2024 \n11965 Cactus Rd. \nAdelanto \nHours: 10 a.m. – 3 p.m.
URL:https://dph.sbcounty.gov/event/school-vaccination-event-st-mary-medical-center/
LOCATION:St. Mary Medical Center – Adelanto\, 11965 Cactus Rd.\, Adelanto\, CA\, 92301\, United States
CATEGORIES:Communicable Disease,School-Based Vacine Services
END:VEVENT
BEGIN:VEVENT
DTSTART;TZID=America/Los_Angeles:20241025T100000
DTEND;TZID=America/Los_Angeles:20241025T150000
DTSTAMP:20260423T000304
CREATED:20241023T155144Z
LAST-MODIFIED:20241023T155144Z
UID:10004721-1729850400-1729868400@dph.sbcounty.gov
SUMMARY:Gibson Senior Center – Flu and COVID-19 Vaccination Event
DESCRIPTION:Friday\, October 25\, 2024 \n250 N 3rd Ave \nUpland \nHours: 10 a.m. – 3 p.m. \nRegister at MyTurn.ca.gov \nSan Bernardino County residents are eligible to receive a free updated flu and/or COVID-19 vaccine. No insurance is necessary! Appointments are encouraged; walk-ins are welcome! \nFlu vaccines are available for those 3 years and older. Moderna vaccines are available for those 6 months and older.
URL:https://dph.sbcounty.gov/event/gibson-senior-center-flu-and-covid-19-vaccination-event-7/
LOCATION:Gibson Senior Center\, 250 N 3rd Ave\, Upland\, CA\, 91786\, United States
CATEGORIES:COVID-19 Vaccination Event,Flu Vaccine Clinic
END:VEVENT
BEGIN:VEVENT
DTSTART;TZID=America/Los_Angeles:20241025T090000
DTEND;TZID=America/Los_Angeles:20241025T113000
DTSTAMP:20260423T000304
CREATED:20241023T155738Z
LAST-MODIFIED:20241023T155739Z
UID:10004724-1729846800-1729855800@dph.sbcounty.gov
SUMMARY:Seccombe Lake Recreation Area – Flu and COVID-19 Vaccination Event
DESCRIPTION:Friday\, October 25\, 2024 \n160 E. 5th St. \nSan Bernardino \nHours: 9 a.m. – 11:30 a.m. \nRegister at MyTurn.ca.gov \nSan Bernardino County residents are eligible to receive a free updated flu and/or COVID-19 vaccine. No insurance is necessary! Appointments are encouraged; walk-ins are welcome! \nFlu vaccines are available for those 3 years and older. Moderna vaccines are available for those 6 months and older.
URL:https://dph.sbcounty.gov/event/seccombe-lake-recreation-area-flu-and-covid-19-vaccination-event-3/
LOCATION:Seccombe Lake Recreation Area\, 160 E. 5th St.\, San Bernardino\, CA\, 92410\, United States
CATEGORIES:COVID-19 Vaccination Event,Flu Vaccine Clinic
END:VEVENT
BEGIN:VEVENT
DTSTART;TZID=America/Los_Angeles:20241024T140000
DTEND;TZID=America/Los_Angeles:20241024T170000
DTSTAMP:20260423T000304
CREATED:20241023T154327Z
LAST-MODIFIED:20241023T154328Z
UID:10004718-1729778400-1729789200@dph.sbcounty.gov
SUMMARY:Victor Elementary School District Office – Flu and COVID-19 Vaccination Event
DESCRIPTION:Thursday\, October 24\, 2024 \n12219 2nd Ave. \nVictorville \nRegister at MyTurn.ca.gov \nSan Bernardino County residents are eligible to receive a free updated flu and/or COVID-19 vaccine. No insurance is necessary! Appointments are encouraged; walk-ins are welcome! \nFlu vaccines are available for those 3 years and older. Moderna vaccines are available for those 6 months and older.
URL:https://dph.sbcounty.gov/event/victor-elementary-school-district-office-flu-and-covid-19-vaccination-event/
LOCATION:Victor Elementary School District Office\, 12219 2nd Ave.\, Victorville\, CA\, 92395\, United States
CATEGORIES:COVID-19 Vaccination Event,Flu Vaccine Clinic,School-Based Vacine Services
END:VEVENT
BEGIN:VEVENT
DTSTART;TZID=America/Los_Angeles:20241024T100000
DTEND;TZID=America/Los_Angeles:20241024T140000
DTSTAMP:20260423T000304
CREATED:20241023T153711Z
LAST-MODIFIED:20241023T153712Z
UID:10004715-1729764000-1729778400@dph.sbcounty.gov
SUMMARY:Cora Harper Community Center – Flu and COVID-19 Vaccination Event
DESCRIPTION:Thursday\, October 24\, 2024 \n841 Barstow Rd. \nBarstow \nHours: 10 a.m. – 2 p.m. \nRegister at MyTurn.ca.gov \nSan Bernardino County residents are eligible to receive a free updated flu and/or COVID-19 vaccine. No insurance is necessary! Appointments are encouraged; walk-ins are welcome! \nFlu vaccines are available for those 3 years and older. Moderna vaccines are available for those 6 months and older.
URL:https://dph.sbcounty.gov/event/cora-harper-community-center-flu-and-covid-19-vaccination-event/
LOCATION:Cora Harper Community Center\, 841 Barstow Rd.\, Barstow\, 92311\, United States
CATEGORIES:COVID-19 Vaccination Event,Flu Vaccine Clinic
END:VEVENT
BEGIN:VEVENT
DTSTART;TZID=America/Los_Angeles:20241023T120000
DTEND;TZID=America/Los_Angeles:20241023T170000
DTSTAMP:20260423T000304
CREATED:20241023T152603Z
LAST-MODIFIED:20241023T155314Z
UID:10004712-1729684800-1729702800@dph.sbcounty.gov
SUMMARY:Victor Elementary School District - Flu and COVID-19 Vaccination Event
DESCRIPTION:Wednesday\, October 23\, 2024 \n16350 Mojave Drive \nVictorville \nHours: 12 p.m. – 5 p.m. \nRegister at MyTurn.ca.gov \nSan Bernardino County residents are eligible to receive a free updated flu and/or COVID-19 vaccine. No insurance is necessary! Appointments are encouraged; walk-ins are welcome! \nFlu vaccines are available for those 3 years and older. Moderna vaccines are available for those 6 months and older.
URL:https://dph.sbcounty.gov/event/victor-valley-union-high-school-district-flu-and-covid-19-vaccination-event/
LOCATION:Victor Valley Union High School District\, 16350 Mojave Drive\, Victorville\, CA\, 92395\, United States
CATEGORIES:COVID-19 Vaccination Event,Flu Vaccine Clinic,School-Based Vacine Services
END:VEVENT
BEGIN:VEVENT
DTSTART;TZID=America/Los_Angeles:20241012T100000
DTEND;TZID=America/Los_Angeles:20241012T140000
DTSTAMP:20260423T000304
CREATED:20241004T163903Z
LAST-MODIFIED:20241008T204911Z
UID:10004455-1728727200-1728741600@dph.sbcounty.gov
SUMMARY:WOW Van Testing Services- San Bernadino Valley College Unity Fest
DESCRIPTION:Wellness on Wheels Flyer \n• Rapid HIV\, syphilis\, and hepatitis C testing• Gonorrhea and chlamydia testing• Free condoms and lubricant• Sexual health education• Access to treatment
URL:https://dph.sbcounty.gov/event/wow-van-testing-services-san-bernadino-valley-college-unity-fest/
LOCATION:San Bernadino Valley College\, 701 S. Mount Vernon Avenue\, San Bernardino\, CA\, 92410\, United States
CATEGORIES:Communicable Disease,Health/Resource Fair
END:VEVENT
BEGIN:VEVENT
DTSTART;TZID=America/Los_Angeles:20241011T160000
DTEND;TZID=America/Los_Angeles:20241011T200000
DTSTAMP:20260423T000304
CREATED:20241009T171722Z
LAST-MODIFIED:20241009T171722Z
UID:10004704-1728662400-1728676800@dph.sbcounty.gov
SUMMARY:WOW Van Testing Services- Wellness Center Grand Opening
DESCRIPTION:Wellness on Wheels Flyer \n• Rapid HIV\, syphilis\, and hepatitis C testing• Gonorrhea and chlamydia testing• Free condoms and lubricant• Sexual health education• Access to treatment
URL:https://dph.sbcounty.gov/event/wow-van-testing-services-wellness-center-grand-opening/
LOCATION:Wellness Center\, 668 West 4th Street\, San Bernardino\, 92410\, United States
CATEGORIES:Communicable Disease,Community
END:VEVENT
BEGIN:VEVENT
DTSTART;TZID=America/Los_Angeles:20241009T110000
DTEND;TZID=America/Los_Angeles:20241009T130000
DTSTAMP:20260423T000304
CREATED:20241004T155637Z
LAST-MODIFIED:20241008T204933Z
UID:10004452-1728471600-1728478800@dph.sbcounty.gov
SUMMARY:WOW Van Testing Services- Cal State University San Bernadino
DESCRIPTION:Wellness on Wheels Flyer \n• Rapid HIV\, syphilis\, and hepatitis C testing• Gonorrhea and chlamydia testing• Free condoms and lubricant• Sexual health education• Access to treatment
URL:https://dph.sbcounty.gov/event/wow-van-testing-services-cal-state-university-san-bernadino/
LOCATION:CSUSB\, 5500 University Pkwy\,\, San Bernardino\, CA\, 92407\, United States
CATEGORIES:Communicable Disease
END:VEVENT
BEGIN:VEVENT
DTSTART;TZID=America/Los_Angeles:20241008T140000
DTEND;TZID=America/Los_Angeles:20241008T180000
DTSTAMP:20260423T000304
CREATED:20241004T153354Z
LAST-MODIFIED:20241008T205003Z
UID:10004449-1728396000-1728410400@dph.sbcounty.gov
SUMMARY:WOW Van Testing Services- EAC
DESCRIPTION:Wellness on Wheels Flyer \n• Rapid HIV\, syphilis\, and hepatitis C testing• Gonorrhea and chlamydia testing• Free condoms and lubricant• Sexual health education• Access to treatment
URL:https://dph.sbcounty.gov/event/wow-van-testing-services-eac/
LOCATION:San Bernardino Health Center\, 590 N. D St.\, San Bernardino\, 92401
CATEGORIES:Communicable Disease
END:VEVENT
BEGIN:VEVENT
DTSTART;TZID=America/Los_Angeles:20240628T120000
DTEND;TZID=America/Los_Angeles:20240628T150000
DTSTAMP:20260423T000304
CREATED:20240612T230007Z
LAST-MODIFIED:20240612T230007Z
UID:10004233-1719576000-1719586800@dph.sbcounty.gov
SUMMARY:School Vaccination Event -Family Learning Center (Yucaipa)
DESCRIPTION:
URL:https://dph.sbcounty.gov/event/school-vaccination-event-family-learning-center-yucaipa/2024-06-28/
LOCATION:Family Learning Center\, 12797 3rd St.\, Yucaipa\, CA\, 92399
CATEGORIES:Communicable Disease,Community,COVID-19 Vaccination Event,Health Education,School-Based Vacine Services,Spanish
END:VEVENT
BEGIN:VEVENT
DTSTART;TZID=America/Los_Angeles:20240627T120000
DTEND;TZID=America/Los_Angeles:20240627T150000
DTSTAMP:20260423T000304
CREATED:20240612T230007Z
LAST-MODIFIED:20240612T230007Z
UID:10004230-1719489600-1719500400@dph.sbcounty.gov
SUMMARY:School Vaccination Event -Family Learning Center (Yucaipa)
DESCRIPTION:
URL:https://dph.sbcounty.gov/event/school-vaccination-event-family-learning-center-yucaipa/2024-06-27/
LOCATION:Family Learning Center\, 12797 3rd St.\, Yucaipa\, CA\, 92399
CATEGORIES:Communicable Disease,Community,COVID-19 Vaccination Event,Health Education,School-Based Vacine Services,Spanish
END:VEVENT
BEGIN:VEVENT
DTSTART;TZID=America/Los_Angeles:20240626T120000
DTEND;TZID=America/Los_Angeles:20240626T150000
DTSTAMP:20260423T000304
CREATED:20240612T230007Z
LAST-MODIFIED:20240612T230007Z
UID:10004227-1719403200-1719414000@dph.sbcounty.gov
SUMMARY:School Vaccination Event -Family Learning Center (Yucaipa)
DESCRIPTION:
URL:https://dph.sbcounty.gov/event/school-vaccination-event-family-learning-center-yucaipa/2024-06-26/
LOCATION:Family Learning Center\, 12797 3rd St.\, Yucaipa\, CA\, 92399
CATEGORIES:Communicable Disease,Community,COVID-19 Vaccination Event,Health Education,School-Based Vacine Services,Spanish
END:VEVENT
BEGIN:VEVENT
DTSTART;TZID=America/Los_Angeles:20240625T120000
DTEND;TZID=America/Los_Angeles:20240625T150000
DTSTAMP:20260423T000304
CREATED:20240612T230007Z
LAST-MODIFIED:20240612T230007Z
UID:10004224-1719316800-1719327600@dph.sbcounty.gov
SUMMARY:School Vaccination Event -Family Learning Center (Yucaipa)
DESCRIPTION:
URL:https://dph.sbcounty.gov/event/school-vaccination-event-family-learning-center-yucaipa/2024-06-25/
LOCATION:Family Learning Center\, 12797 3rd St.\, Yucaipa\, CA\, 92399
CATEGORIES:Communicable Disease,Community,COVID-19 Vaccination Event,Health Education,School-Based Vacine Services,Spanish
END:VEVENT
BEGIN:VEVENT
DTSTART;TZID=America/Los_Angeles:20240624T140000
DTEND;TZID=America/Los_Angeles:20240624T180000
DTSTAMP:20260423T000304
CREATED:20240612T225553Z
LAST-MODIFIED:20240612T225553Z
UID:10004221-1719237600-1719252000@dph.sbcounty.gov
SUMMARY:School Vaccination Event - Victor Elementary School District Family Resource Center
DESCRIPTION:
URL:https://dph.sbcounty.gov/event/school-vaccination-event-victor-elementary-school-district-family-resource-center/
LOCATION:Victor Elementary School District Family Resource Center\, 15115 Nisqualli Rd.\, Victorville\, CA\, 92395
CATEGORIES:Communicable Disease,Community,COVID-19 Vaccination Event,Health Education,School-Based Vacine Services
END:VEVENT
BEGIN:VEVENT
DTSTART;TZID=America/Los_Angeles:20240621T100000
DTEND;TZID=America/Los_Angeles:20240621T150000
DTSTAMP:20260423T000304
CREATED:20240612T225336Z
LAST-MODIFIED:20240612T225336Z
UID:10004218-1718964000-1718982000@dph.sbcounty.gov
SUMMARY:School Vaccination Event - St. Mary Health Center (Adelanto)
DESCRIPTION:
URL:https://dph.sbcounty.gov/event/school-vaccination-event-st-mary-health-center-adelanto/
LOCATION:St. Mary Health Centers – Adelanto\, 11965 Cactus Rd.\, Adelanto\, CA\, 92301
CATEGORIES:Communicable Disease,Community,COVID-19 Vaccination Event,Health Education,School-Based Vacine Services
END:VEVENT
BEGIN:VEVENT
DTSTART;TZID=America/Los_Angeles:20240620T140000
DTEND;TZID=America/Los_Angeles:20240620T170000
DTSTAMP:20260423T000304
CREATED:20240612T224729Z
LAST-MODIFIED:20240612T224845Z
UID:10004215-1718892000-1718902800@dph.sbcounty.gov
SUMMARY:School Vaccination Event - Central High School
DESCRIPTION:
URL:https://dph.sbcounty.gov/event/school-vaccination-event-central-high-school-2/2024-06-20/
LOCATION:Central High School\, 405 N. 2nd Ave.\, Barstow\, CA\, 92311\, United States
CATEGORIES:Communicable Disease,Community,COVID-19 Vaccination Event,School-Based Vacine Services
END:VEVENT
BEGIN:VEVENT
DTSTART;TZID=America/Los_Angeles:20240618T140000
DTEND;TZID=America/Los_Angeles:20240618T170000
DTSTAMP:20260423T000304
CREATED:20240612T224729Z
LAST-MODIFIED:20240612T224845Z
UID:10004212-1718719200-1718730000@dph.sbcounty.gov
SUMMARY:School Vaccination Event - Central High School
DESCRIPTION:
URL:https://dph.sbcounty.gov/event/school-vaccination-event-central-high-school-2/2024-06-18/
LOCATION:Central High School\, 405 N. 2nd Ave.\, Barstow\, CA\, 92311\, United States
CATEGORIES:Communicable Disease,Community,COVID-19 Vaccination Event,School-Based Vacine Services
END:VEVENT
BEGIN:VEVENT
DTSTART;TZID=America/Los_Angeles:20240614T150000
DTEND;TZID=America/Los_Angeles:20240614T180000
DTSTAMP:20260423T000304
CREATED:20240612T223925Z
LAST-MODIFIED:20240612T223925Z
UID:10004206-1718377200-1718388000@dph.sbcounty.gov
SUMMARY:School Vaccination Event - Rim of the World Unified School District
DESCRIPTION:
URL:https://dph.sbcounty.gov/event/school-vaccination-event-rim-of-the-world-unified-school-district/
LOCATION:Valley of Enchantment Elementary School\, 22836 Fir Ln\, Crestline\, CA\, 92325
CATEGORIES:Communicable Disease,Community,COVID-19 Vaccination Event,School-Based Vacine Services
END:VEVENT
BEGIN:VEVENT
DTSTART;TZID=America/Los_Angeles:20240613T140000
DTEND;TZID=America/Los_Angeles:20240613T170000
DTSTAMP:20260423T000304
CREATED:20240612T223542Z
LAST-MODIFIED:20240612T223542Z
UID:10004203-1718287200-1718298000@dph.sbcounty.gov
SUMMARY:School Vaccination Event- Central High School
DESCRIPTION:
URL:https://dph.sbcounty.gov/event/school-vaccination-event-central-high-school/
LOCATION:Central High School\, 405 N. 2nd Ave.\, Barstow\, CA\, 92311\, United States
CATEGORIES:Communicable Disease,Community,COVID-19 Vaccination Event,School-Based Vacine Services
END:VEVENT
BEGIN:VEVENT
DTSTART;TZID=America/Los_Angeles:20240612T080000
DTEND;TZID=America/Los_Angeles:20240612T170000
DTSTAMP:20260423T000304
CREATED:20240612T224246Z
LAST-MODIFIED:20240612T224246Z
UID:10004209-1718179200-1718211600@dph.sbcounty.gov
SUMMARY:School Vaccination Event - St. Mary Medical Health Centers (Apple Valley)
DESCRIPTION:
URL:https://dph.sbcounty.gov/event/school-vaccination-event-st-mary-medical-health-centers-apple-valley/
LOCATION:St. Mary Medical Health Centers\, 18077 Outer Hwy 18 South\, Apple Valley\, CA\, 92307
CATEGORIES:Communicable Disease,Community,Flu Vaccine Clinic,School-Based Vacine Services
END:VEVENT
END:VCALENDAR