BEGIN:VCALENDAR
VERSION:2.0
PRODID:-//Department of Public Health - ECPv6.15.14//NONSGML v1.0//EN
CALSCALE:GREGORIAN
METHOD:PUBLISH
X-ORIGINAL-URL:https://dph.sbcounty.gov
X-WR-CALDESC:Events for Department of Public Health
REFRESH-INTERVAL;VALUE=DURATION:PT1H
X-Robots-Tag:noindex
X-PUBLISHED-TTL:PT1H
BEGIN:VTIMEZONE
TZID:America/Los_Angeles
BEGIN:DAYLIGHT
TZOFFSETFROM:-0800
TZOFFSETTO:-0700
TZNAME:PDT
DTSTART:20230312T100000
END:DAYLIGHT
BEGIN:STANDARD
TZOFFSETFROM:-0700
TZOFFSETTO:-0800
TZNAME:PST
DTSTART:20231105T090000
END:STANDARD
BEGIN:DAYLIGHT
TZOFFSETFROM:-0800
TZOFFSETTO:-0700
TZNAME:PDT
DTSTART:20240310T100000
END:DAYLIGHT
BEGIN:STANDARD
TZOFFSETFROM:-0700
TZOFFSETTO:-0800
TZNAME:PST
DTSTART:20241103T090000
END:STANDARD
BEGIN:DAYLIGHT
TZOFFSETFROM:-0800
TZOFFSETTO:-0700
TZNAME:PDT
DTSTART:20250309T100000
END:DAYLIGHT
BEGIN:STANDARD
TZOFFSETFROM:-0700
TZOFFSETTO:-0800
TZNAME:PST
DTSTART:20251102T090000
END:STANDARD
BEGIN:DAYLIGHT
TZOFFSETFROM:-0800
TZOFFSETTO:-0700
TZNAME:PDT
DTSTART:20260308T100000
END:DAYLIGHT
BEGIN:STANDARD
TZOFFSETFROM:-0700
TZOFFSETTO:-0800
TZNAME:PST
DTSTART:20261101T090000
END:STANDARD
END:VTIMEZONE
BEGIN:VEVENT
DTSTART;TZID=America/Los_Angeles:20250731T110000
DTEND;TZID=America/Los_Angeles:20250731T143000
DTSTAMP:20260422T145603
CREATED:20250609T203908Z
LAST-MODIFIED:20250611T175142Z
UID:10006083-1753959600-1753972200@dph.sbcounty.gov
SUMMARY:WOW Van Testing Services - Cal State University San Bernardino
DESCRIPTION:Wellness on Wheels Flyer \n• Free rapid HIV\, syphilis\, and hepatitis C testing• Free gonorrhea and chlamydia testing• Free condoms and lubricant• Sexual health education• Access to treatment
URL:https://dph.sbcounty.gov/event/wow-van-testing-services-cal-state-university-san-bernardino-4/
LOCATION:CSUSB\, 5500 University Pkwy\,\, San Bernardino\, CA\, 92407\, United States
CATEGORIES:Communicable Disease,Health Education,HIV
END:VEVENT
BEGIN:VEVENT
DTSTART;TZID=America/Los_Angeles:20250626T110000
DTEND;TZID=America/Los_Angeles:20250626T140000
DTSTAMP:20260422T145603
CREATED:20250331T161708Z
LAST-MODIFIED:20250611T174942Z
UID:10005260-1750935600-1750946400@dph.sbcounty.gov
SUMMARY:WOW Van Testing Services- Cal State University San Bernardino
DESCRIPTION:Wellness on Wheels Flyer \n• Free rapid HIV\, syphilis\, and hepatitis C testing• Free gonorrhea and chlamydia testing• Free condoms and lubricant• Sexual health education• Access to treatment
URL:https://dph.sbcounty.gov/event/wow-van-testing-services-cal-state-university-san-bernardino-3/
LOCATION:CSUSB\, 5500 University Pkwy\,\, San Bernardino\, CA\, 92407\, United States
CATEGORIES:Communicable Disease
END:VEVENT
BEGIN:VEVENT
DTSTART;TZID=America/Los_Angeles:20250529T110000
DTEND;TZID=America/Los_Angeles:20250529T150000
DTSTAMP:20260422T145603
CREATED:20250331T161619Z
LAST-MODIFIED:20250331T161619Z
UID:10005257-1748516400-1748530800@dph.sbcounty.gov
SUMMARY:WOW Van Testing Services- Cal State University San Bernardino
DESCRIPTION:Wellness on Wheels Flyer \n• Rapid HIV\, syphilis\, and hepatitis C testing• Gonorrhea and chlamydia testing• Free condoms and lubricant• Sexual health education• Access to treatment
URL:https://dph.sbcounty.gov/event/wow-van-testing-services-cal-state-university-san-bernardino-2/
LOCATION:CSUSB\, 5500 University Pkwy\,\, San Bernardino\, CA\, 92407\, United States
CATEGORIES:Communicable Disease
END:VEVENT
BEGIN:VEVENT
DTSTART;TZID=America/Los_Angeles:20250424T110000
DTEND;TZID=America/Los_Angeles:20250424T150000
DTSTAMP:20260422T145603
CREATED:20250331T161406Z
LAST-MODIFIED:20250331T161406Z
UID:10005251-1745492400-1745506800@dph.sbcounty.gov
SUMMARY:WOW Van Testing Services- Cal State University San Bernardino
DESCRIPTION:Wellness on Wheels Flyer \n• Rapid HIV\, syphilis\, and hepatitis C testing• Gonorrhea and chlamydia testing• Free condoms and lubricant• Sexual health education• Access to treatment
URL:https://dph.sbcounty.gov/event/wow-van-testing-services-cal-state-university-san-bernardino/
LOCATION:CSUSB\, 5500 University Pkwy\,\, San Bernardino\, CA\, 92407\, United States
CATEGORIES:Communicable Disease
END:VEVENT
BEGIN:VEVENT
DTSTART;TZID=America/Los_Angeles:20250227T110000
DTEND;TZID=America/Los_Angeles:20250227T150000
DTSTAMP:20260422T145603
CREATED:20250102T165809Z
LAST-MODIFIED:20250102T180200Z
UID:10004814-1740654000-1740668400@dph.sbcounty.gov
SUMMARY:WOW Van Testing Services- Cal State University San Bernardino
DESCRIPTION:Wellness on Wheels Flyer \n• Rapid HIV\, syphilis\, and hepatitis C testing• Gonorrhea and chlamydia testing• Free condoms and lubricant• Sexual health education• Access to treatment
URL:https://dph.sbcounty.gov/event/wow-van-testing-services-cal-state-university-san-bernadino-5/
LOCATION:CSUSB\, 5500 University Pkwy\,\, San Bernardino\, CA\, 92407\, United States
CATEGORIES:Communicable Disease
END:VEVENT
BEGIN:VEVENT
DTSTART;TZID=America/Los_Angeles:20250130T110000
DTEND;TZID=America/Los_Angeles:20250130T150000
DTSTAMP:20260422T145603
CREATED:20250102T165522Z
LAST-MODIFIED:20250102T180109Z
UID:10004808-1738234800-1738249200@dph.sbcounty.gov
SUMMARY:WOW Van Testing Services- Cal State University San Bernardino
DESCRIPTION:Wellness on Wheels Flyer \n• Rapid HIV\, syphilis\, and hepatitis C testing• Gonorrhea and chlamydia testing• Free condoms and lubricant• Sexual health education• Access to treatment
URL:https://dph.sbcounty.gov/event/wow-van-testing-services-cal-state-university-san-bernadino-4/
LOCATION:CSUSB\, 5500 University Pkwy\,\, San Bernardino\, CA\, 92407\, United States
CATEGORIES:Communicable Disease
END:VEVENT
BEGIN:VEVENT
DTSTART;TZID=America/Los_Angeles:20241211T110000
DTEND;TZID=America/Los_Angeles:20241211T150000
DTSTAMP:20260422T145603
CREATED:20241118T231259Z
LAST-MODIFIED:20241118T231259Z
UID:10004786-1733914800-1733929200@dph.sbcounty.gov
SUMMARY:WOW Van Testing Services- Cal State University San Bernadino
DESCRIPTION:Wellness on Wheels Flyer \n• Rapid HIV\, syphilis\, and hepatitis C testing• Gonorrhea and chlamydia testing• Free condoms and lubricant• Sexual health education• Access to treatment
URL:https://dph.sbcounty.gov/event/wow-van-testing-services-cal-state-university-san-bernadino-3/
LOCATION:CSUSB\, 5500 University Pkwy\,\, San Bernardino\, CA\, 92407\, United States
CATEGORIES:Communicable Disease
END:VEVENT
BEGIN:VEVENT
DTSTART;TZID=America/Los_Angeles:20241113T110000
DTEND;TZID=America/Los_Angeles:20241113T130000
DTSTAMP:20260422T145603
CREATED:20241004T164802Z
LAST-MODIFIED:20250102T180041Z
UID:10004461-1731495600-1731502800@dph.sbcounty.gov
SUMMARY:WOW Van Testing Services- Cal State University San Bernardino
DESCRIPTION:Wellness on Wheels Flyer \n• Rapid HIV\, syphilis\, and hepatitis C testing• Gonorrhea and chlamydia testing• Free condoms and lubricant• Sexual health education• Access to treatment
URL:https://dph.sbcounty.gov/event/wow-van-testing-services-cal-state-university-san-bernadino-2/
LOCATION:CSUSB\, 5500 University Pkwy\,\, San Bernardino\, CA\, 92407\, United States
CATEGORIES:Communicable Disease
END:VEVENT
BEGIN:VEVENT
DTSTART;TZID=America/Los_Angeles:20241009T110000
DTEND;TZID=America/Los_Angeles:20241009T130000
DTSTAMP:20260422T145603
CREATED:20241004T155637Z
LAST-MODIFIED:20241008T204933Z
UID:10004452-1728471600-1728478800@dph.sbcounty.gov
SUMMARY:WOW Van Testing Services- Cal State University San Bernadino
DESCRIPTION:Wellness on Wheels Flyer \n• Rapid HIV\, syphilis\, and hepatitis C testing• Gonorrhea and chlamydia testing• Free condoms and lubricant• Sexual health education• Access to treatment
URL:https://dph.sbcounty.gov/event/wow-van-testing-services-cal-state-university-san-bernadino/
LOCATION:CSUSB\, 5500 University Pkwy\,\, San Bernardino\, CA\, 92407\, United States
CATEGORIES:Communicable Disease
END:VEVENT
END:VCALENDAR