BEGIN:VCALENDAR
VERSION:2.0
PRODID:-//Department of Public Health - ECPv6.15.14//NONSGML v1.0//EN
CALSCALE:GREGORIAN
METHOD:PUBLISH
X-ORIGINAL-URL:https://dph.sbcounty.gov
X-WR-CALDESC:Events for Department of Public Health
REFRESH-INTERVAL;VALUE=DURATION:PT1H
X-Robots-Tag:noindex
X-PUBLISHED-TTL:PT1H
BEGIN:VTIMEZONE
TZID:America/Los_Angeles
BEGIN:DAYLIGHT
TZOFFSETFROM:-0800
TZOFFSETTO:-0700
TZNAME:PDT
DTSTART:20240310T100000
END:DAYLIGHT
BEGIN:STANDARD
TZOFFSETFROM:-0700
TZOFFSETTO:-0800
TZNAME:PST
DTSTART:20241103T090000
END:STANDARD
BEGIN:DAYLIGHT
TZOFFSETFROM:-0800
TZOFFSETTO:-0700
TZNAME:PDT
DTSTART:20250309T100000
END:DAYLIGHT
BEGIN:STANDARD
TZOFFSETFROM:-0700
TZOFFSETTO:-0800
TZNAME:PST
DTSTART:20251102T090000
END:STANDARD
BEGIN:DAYLIGHT
TZOFFSETFROM:-0800
TZOFFSETTO:-0700
TZNAME:PDT
DTSTART:20260308T100000
END:DAYLIGHT
BEGIN:STANDARD
TZOFFSETFROM:-0700
TZOFFSETTO:-0800
TZNAME:PST
DTSTART:20261101T090000
END:STANDARD
END:VTIMEZONE
BEGIN:VEVENT
DTSTART;TZID=America/Los_Angeles:20251027T093000
DTEND;TZID=America/Los_Angeles:20251027T133000
DTSTAMP:20260423T000101
CREATED:20251002T221149Z
LAST-MODIFIED:20251009T183936Z
UID:10006336-1761557400-1761571800@dph.sbcounty.gov
SUMMARY:Gibson Senior Center - Flu Vaccination Event
DESCRIPTION:Gibson Senior Center\nMonday\, October 27\, 2025\n250 N. 3rd Ave.\, UplandHours: 9:30 a.m. – 1:30 p.m.\nRegister at MyTurn.ca.gov \nFree vaccines are available to individuals 6 months and older who live\, work\, or go to school in San Bernardino County\, regardless of insurance or residency status. Appointments are encouraged\, and walk-ins are welcome! \nClick here to view the flyer for the Gibson Senior Center Flu Vaccine Event
URL:https://dph.sbcounty.gov/event/gibson-senior-center-flu-vaccination-event/
LOCATION:Gibson Senior Center\, 250 N 3rd Ave\, Upland\, CA\, 91786\, United States
CATEGORIES:Flu Vaccine Clinic
ATTACH;FMTTYPE=image/png:https://dph.sbcounty.gov/wp-content/uploads/sites/7/Flu-Clinic-campaign-graphic-1.png
END:VEVENT
BEGIN:VEVENT
DTSTART;TZID=America/Los_Angeles:20250822T090000
DTEND;TZID=America/Los_Angeles:20250822T100000
DTSTAMP:20260423T000101
CREATED:20250610T191936Z
LAST-MODIFIED:20250610T191936Z
UID:10006161-1755853200-1755856800@dph.sbcounty.gov
SUMMARY:Walk With Ease - Gibson Senior Center
DESCRIPTION:The Arthritis Foundation’s Walk With Ease Program is an evidence-based program aimed at reducing the pain of arthritis and improve overall health. Group sessions meet three times per week for six weeks. If you can be on your feet for 10 minutes without increased pain\, you can have success with Walk With Ease.
URL:https://dph.sbcounty.gov/event/walk-with-ease-gibson-senior-center/2025-08-22/
LOCATION:Gibson Senior Center\, 250 N 3rd Ave\, Upland\, CA\, 91786\, United States
CATEGORIES:Nutrition
END:VEVENT
BEGIN:VEVENT
DTSTART;TZID=America/Los_Angeles:20250820T090000
DTEND;TZID=America/Los_Angeles:20250820T100000
DTSTAMP:20260423T000101
CREATED:20250610T191936Z
LAST-MODIFIED:20250610T191936Z
UID:10006158-1755680400-1755684000@dph.sbcounty.gov
SUMMARY:Walk With Ease - Gibson Senior Center
DESCRIPTION:The Arthritis Foundation’s Walk With Ease Program is an evidence-based program aimed at reducing the pain of arthritis and improve overall health. Group sessions meet three times per week for six weeks. If you can be on your feet for 10 minutes without increased pain\, you can have success with Walk With Ease.
URL:https://dph.sbcounty.gov/event/walk-with-ease-gibson-senior-center/2025-08-20/
LOCATION:Gibson Senior Center\, 250 N 3rd Ave\, Upland\, CA\, 91786\, United States
CATEGORIES:Nutrition
END:VEVENT
BEGIN:VEVENT
DTSTART;TZID=America/Los_Angeles:20250818T090000
DTEND;TZID=America/Los_Angeles:20250818T100000
DTSTAMP:20260423T000101
CREATED:20250610T191936Z
LAST-MODIFIED:20250610T191936Z
UID:10006155-1755507600-1755511200@dph.sbcounty.gov
SUMMARY:Walk With Ease - Gibson Senior Center
DESCRIPTION:The Arthritis Foundation’s Walk With Ease Program is an evidence-based program aimed at reducing the pain of arthritis and improve overall health. Group sessions meet three times per week for six weeks. If you can be on your feet for 10 minutes without increased pain\, you can have success with Walk With Ease.
URL:https://dph.sbcounty.gov/event/walk-with-ease-gibson-senior-center/2025-08-18/
LOCATION:Gibson Senior Center\, 250 N 3rd Ave\, Upland\, CA\, 91786\, United States
CATEGORIES:Nutrition
END:VEVENT
BEGIN:VEVENT
DTSTART;TZID=America/Los_Angeles:20250815T090000
DTEND;TZID=America/Los_Angeles:20250815T100000
DTSTAMP:20260423T000101
CREATED:20250610T191936Z
LAST-MODIFIED:20250610T191936Z
UID:10006152-1755248400-1755252000@dph.sbcounty.gov
SUMMARY:Walk With Ease - Gibson Senior Center
DESCRIPTION:The Arthritis Foundation’s Walk With Ease Program is an evidence-based program aimed at reducing the pain of arthritis and improve overall health. Group sessions meet three times per week for six weeks. If you can be on your feet for 10 minutes without increased pain\, you can have success with Walk With Ease.
URL:https://dph.sbcounty.gov/event/walk-with-ease-gibson-senior-center/2025-08-15/
LOCATION:Gibson Senior Center\, 250 N 3rd Ave\, Upland\, CA\, 91786\, United States
CATEGORIES:Nutrition
END:VEVENT
BEGIN:VEVENT
DTSTART;TZID=America/Los_Angeles:20250813T090000
DTEND;TZID=America/Los_Angeles:20250813T100000
DTSTAMP:20260423T000101
CREATED:20250610T191936Z
LAST-MODIFIED:20250610T191936Z
UID:10006149-1755075600-1755079200@dph.sbcounty.gov
SUMMARY:Walk With Ease - Gibson Senior Center
DESCRIPTION:The Arthritis Foundation’s Walk With Ease Program is an evidence-based program aimed at reducing the pain of arthritis and improve overall health. Group sessions meet three times per week for six weeks. If you can be on your feet for 10 minutes without increased pain\, you can have success with Walk With Ease.
URL:https://dph.sbcounty.gov/event/walk-with-ease-gibson-senior-center/2025-08-13/
LOCATION:Gibson Senior Center\, 250 N 3rd Ave\, Upland\, CA\, 91786\, United States
CATEGORIES:Nutrition
END:VEVENT
BEGIN:VEVENT
DTSTART;TZID=America/Los_Angeles:20250811T090000
DTEND;TZID=America/Los_Angeles:20250811T100000
DTSTAMP:20260423T000101
CREATED:20250610T191936Z
LAST-MODIFIED:20250610T191936Z
UID:10006146-1754902800-1754906400@dph.sbcounty.gov
SUMMARY:Walk With Ease - Gibson Senior Center
DESCRIPTION:The Arthritis Foundation’s Walk With Ease Program is an evidence-based program aimed at reducing the pain of arthritis and improve overall health. Group sessions meet three times per week for six weeks. If you can be on your feet for 10 minutes without increased pain\, you can have success with Walk With Ease.
URL:https://dph.sbcounty.gov/event/walk-with-ease-gibson-senior-center/2025-08-11/
LOCATION:Gibson Senior Center\, 250 N 3rd Ave\, Upland\, CA\, 91786\, United States
CATEGORIES:Nutrition
END:VEVENT
BEGIN:VEVENT
DTSTART;TZID=America/Los_Angeles:20250808T090000
DTEND;TZID=America/Los_Angeles:20250808T100000
DTSTAMP:20260423T000101
CREATED:20250610T191936Z
LAST-MODIFIED:20250610T191936Z
UID:10006143-1754643600-1754647200@dph.sbcounty.gov
SUMMARY:Walk With Ease - Gibson Senior Center
DESCRIPTION:The Arthritis Foundation’s Walk With Ease Program is an evidence-based program aimed at reducing the pain of arthritis and improve overall health. Group sessions meet three times per week for six weeks. If you can be on your feet for 10 minutes without increased pain\, you can have success with Walk With Ease.
URL:https://dph.sbcounty.gov/event/walk-with-ease-gibson-senior-center/2025-08-08/
LOCATION:Gibson Senior Center\, 250 N 3rd Ave\, Upland\, CA\, 91786\, United States
CATEGORIES:Nutrition
END:VEVENT
BEGIN:VEVENT
DTSTART;TZID=America/Los_Angeles:20250806T090000
DTEND;TZID=America/Los_Angeles:20250806T100000
DTSTAMP:20260423T000101
CREATED:20250610T191936Z
LAST-MODIFIED:20250610T191936Z
UID:10006140-1754470800-1754474400@dph.sbcounty.gov
SUMMARY:Walk With Ease - Gibson Senior Center
DESCRIPTION:The Arthritis Foundation’s Walk With Ease Program is an evidence-based program aimed at reducing the pain of arthritis and improve overall health. Group sessions meet three times per week for six weeks. If you can be on your feet for 10 minutes without increased pain\, you can have success with Walk With Ease.
URL:https://dph.sbcounty.gov/event/walk-with-ease-gibson-senior-center/2025-08-06/
LOCATION:Gibson Senior Center\, 250 N 3rd Ave\, Upland\, CA\, 91786\, United States
CATEGORIES:Nutrition
END:VEVENT
BEGIN:VEVENT
DTSTART;TZID=America/Los_Angeles:20250804T090000
DTEND;TZID=America/Los_Angeles:20250804T100000
DTSTAMP:20260423T000101
CREATED:20250610T191936Z
LAST-MODIFIED:20250610T191936Z
UID:10006137-1754298000-1754301600@dph.sbcounty.gov
SUMMARY:Walk With Ease - Gibson Senior Center
DESCRIPTION:The Arthritis Foundation’s Walk With Ease Program is an evidence-based program aimed at reducing the pain of arthritis and improve overall health. Group sessions meet three times per week for six weeks. If you can be on your feet for 10 minutes without increased pain\, you can have success with Walk With Ease.
URL:https://dph.sbcounty.gov/event/walk-with-ease-gibson-senior-center/2025-08-04/
LOCATION:Gibson Senior Center\, 250 N 3rd Ave\, Upland\, CA\, 91786\, United States
CATEGORIES:Nutrition
END:VEVENT
BEGIN:VEVENT
DTSTART;TZID=America/Los_Angeles:20250801T090000
DTEND;TZID=America/Los_Angeles:20250801T100000
DTSTAMP:20260423T000101
CREATED:20250610T191936Z
LAST-MODIFIED:20250610T191936Z
UID:10006134-1754038800-1754042400@dph.sbcounty.gov
SUMMARY:Walk With Ease - Gibson Senior Center
DESCRIPTION:The Arthritis Foundation’s Walk With Ease Program is an evidence-based program aimed at reducing the pain of arthritis and improve overall health. Group sessions meet three times per week for six weeks. If you can be on your feet for 10 minutes without increased pain\, you can have success with Walk With Ease.
URL:https://dph.sbcounty.gov/event/walk-with-ease-gibson-senior-center/2025-08-01/
LOCATION:Gibson Senior Center\, 250 N 3rd Ave\, Upland\, CA\, 91786\, United States
CATEGORIES:Nutrition
END:VEVENT
BEGIN:VEVENT
DTSTART;TZID=America/Los_Angeles:20250730T090000
DTEND;TZID=America/Los_Angeles:20250730T100000
DTSTAMP:20260423T000101
CREATED:20250610T191936Z
LAST-MODIFIED:20250610T191936Z
UID:10006131-1753866000-1753869600@dph.sbcounty.gov
SUMMARY:Walk With Ease - Gibson Senior Center
DESCRIPTION:The Arthritis Foundation’s Walk With Ease Program is an evidence-based program aimed at reducing the pain of arthritis and improve overall health. Group sessions meet three times per week for six weeks. If you can be on your feet for 10 minutes without increased pain\, you can have success with Walk With Ease.
URL:https://dph.sbcounty.gov/event/walk-with-ease-gibson-senior-center/2025-07-30/
LOCATION:Gibson Senior Center\, 250 N 3rd Ave\, Upland\, CA\, 91786\, United States
CATEGORIES:Nutrition
END:VEVENT
BEGIN:VEVENT
DTSTART;TZID=America/Los_Angeles:20250728T090000
DTEND;TZID=America/Los_Angeles:20250728T100000
DTSTAMP:20260423T000101
CREATED:20250610T191936Z
LAST-MODIFIED:20250610T191936Z
UID:10006128-1753693200-1753696800@dph.sbcounty.gov
SUMMARY:Walk With Ease - Gibson Senior Center
DESCRIPTION:The Arthritis Foundation’s Walk With Ease Program is an evidence-based program aimed at reducing the pain of arthritis and improve overall health. Group sessions meet three times per week for six weeks. If you can be on your feet for 10 minutes without increased pain\, you can have success with Walk With Ease.
URL:https://dph.sbcounty.gov/event/walk-with-ease-gibson-senior-center/2025-07-28/
LOCATION:Gibson Senior Center\, 250 N 3rd Ave\, Upland\, CA\, 91786\, United States
CATEGORIES:Nutrition
END:VEVENT
BEGIN:VEVENT
DTSTART;TZID=America/Los_Angeles:20250725T090000
DTEND;TZID=America/Los_Angeles:20250725T100000
DTSTAMP:20260423T000101
CREATED:20250610T191936Z
LAST-MODIFIED:20250610T191936Z
UID:10006125-1753434000-1753437600@dph.sbcounty.gov
SUMMARY:Walk With Ease - Gibson Senior Center
DESCRIPTION:The Arthritis Foundation’s Walk With Ease Program is an evidence-based program aimed at reducing the pain of arthritis and improve overall health. Group sessions meet three times per week for six weeks. If you can be on your feet for 10 minutes without increased pain\, you can have success with Walk With Ease.
URL:https://dph.sbcounty.gov/event/walk-with-ease-gibson-senior-center/2025-07-25/
LOCATION:Gibson Senior Center\, 250 N 3rd Ave\, Upland\, CA\, 91786\, United States
CATEGORIES:Nutrition
END:VEVENT
BEGIN:VEVENT
DTSTART;TZID=America/Los_Angeles:20250723T090000
DTEND;TZID=America/Los_Angeles:20250723T100000
DTSTAMP:20260423T000101
CREATED:20250610T191936Z
LAST-MODIFIED:20250610T191936Z
UID:10006122-1753261200-1753264800@dph.sbcounty.gov
SUMMARY:Walk With Ease - Gibson Senior Center
DESCRIPTION:The Arthritis Foundation’s Walk With Ease Program is an evidence-based program aimed at reducing the pain of arthritis and improve overall health. Group sessions meet three times per week for six weeks. If you can be on your feet for 10 minutes without increased pain\, you can have success with Walk With Ease.
URL:https://dph.sbcounty.gov/event/walk-with-ease-gibson-senior-center/2025-07-23/
LOCATION:Gibson Senior Center\, 250 N 3rd Ave\, Upland\, CA\, 91786\, United States
CATEGORIES:Nutrition
END:VEVENT
BEGIN:VEVENT
DTSTART;TZID=America/Los_Angeles:20250721T090000
DTEND;TZID=America/Los_Angeles:20250721T100000
DTSTAMP:20260423T000102
CREATED:20250610T191936Z
LAST-MODIFIED:20250610T191936Z
UID:10006119-1753088400-1753092000@dph.sbcounty.gov
SUMMARY:Walk With Ease - Gibson Senior Center
DESCRIPTION:The Arthritis Foundation’s Walk With Ease Program is an evidence-based program aimed at reducing the pain of arthritis and improve overall health. Group sessions meet three times per week for six weeks. If you can be on your feet for 10 minutes without increased pain\, you can have success with Walk With Ease.
URL:https://dph.sbcounty.gov/event/walk-with-ease-gibson-senior-center/2025-07-21/
LOCATION:Gibson Senior Center\, 250 N 3rd Ave\, Upland\, CA\, 91786\, United States
CATEGORIES:Nutrition
END:VEVENT
BEGIN:VEVENT
DTSTART;TZID=America/Los_Angeles:20250718T090000
DTEND;TZID=America/Los_Angeles:20250718T100000
DTSTAMP:20260423T000102
CREATED:20250610T191936Z
LAST-MODIFIED:20250610T191936Z
UID:10006116-1752829200-1752832800@dph.sbcounty.gov
SUMMARY:Walk With Ease - Gibson Senior Center
DESCRIPTION:The Arthritis Foundation’s Walk With Ease Program is an evidence-based program aimed at reducing the pain of arthritis and improve overall health. Group sessions meet three times per week for six weeks. If you can be on your feet for 10 minutes without increased pain\, you can have success with Walk With Ease.
URL:https://dph.sbcounty.gov/event/walk-with-ease-gibson-senior-center/2025-07-18/
LOCATION:Gibson Senior Center\, 250 N 3rd Ave\, Upland\, CA\, 91786\, United States
CATEGORIES:Nutrition
END:VEVENT
BEGIN:VEVENT
DTSTART;TZID=America/Los_Angeles:20250716T090000
DTEND;TZID=America/Los_Angeles:20250716T100000
DTSTAMP:20260423T000102
CREATED:20250610T191936Z
LAST-MODIFIED:20250610T191936Z
UID:10006113-1752656400-1752660000@dph.sbcounty.gov
SUMMARY:Walk With Ease - Gibson Senior Center
DESCRIPTION:The Arthritis Foundation’s Walk With Ease Program is an evidence-based program aimed at reducing the pain of arthritis and improve overall health. Group sessions meet three times per week for six weeks. If you can be on your feet for 10 minutes without increased pain\, you can have success with Walk With Ease.
URL:https://dph.sbcounty.gov/event/walk-with-ease-gibson-senior-center/2025-07-16/
LOCATION:Gibson Senior Center\, 250 N 3rd Ave\, Upland\, CA\, 91786\, United States
CATEGORIES:Nutrition
END:VEVENT
BEGIN:VEVENT
DTSTART;TZID=America/Los_Angeles:20250714T090000
DTEND;TZID=America/Los_Angeles:20250714T100000
DTSTAMP:20260423T000102
CREATED:20250610T191936Z
LAST-MODIFIED:20250610T191936Z
UID:10006110-1752483600-1752487200@dph.sbcounty.gov
SUMMARY:Walk With Ease - Gibson Senior Center
DESCRIPTION:The Arthritis Foundation’s Walk With Ease Program is an evidence-based program aimed at reducing the pain of arthritis and improve overall health. Group sessions meet three times per week for six weeks. If you can be on your feet for 10 minutes without increased pain\, you can have success with Walk With Ease.
URL:https://dph.sbcounty.gov/event/walk-with-ease-gibson-senior-center/2025-07-14/
LOCATION:Gibson Senior Center\, 250 N 3rd Ave\, Upland\, CA\, 91786\, United States
CATEGORIES:Nutrition
END:VEVENT
BEGIN:VEVENT
DTSTART;TZID=America/Los_Angeles:20250429T090000
DTEND;TZID=America/Los_Angeles:20250429T100000
DTSTAMP:20260423T000102
CREATED:20250307T191947Z
LAST-MODIFIED:20250307T191947Z
UID:10004957-1745917200-1745920800@dph.sbcounty.gov
SUMMARY:Gibson Senior Center - Tai Chi for Arthritis and Fall Prevention
DESCRIPTION:Tai Chi for Arthritis and Fall Prevention is designed to improve multiple aspects of health through slow\, gentle movements. The program\nis suitable for adults with or without arthritis\, rheumatic\, or musculoskeletal conditions.
URL:https://dph.sbcounty.gov/event/gibson-senior-center-tai-chi-for-arthritis-and-fall-prevention/2025-04-29/
LOCATION:Gibson Senior Center\, 250 N 3rd Ave\, Upland\, CA\, 91786\, United States
END:VEVENT
BEGIN:VEVENT
DTSTART;TZID=America/Los_Angeles:20250422T090000
DTEND;TZID=America/Los_Angeles:20250422T100000
DTSTAMP:20260423T000102
CREATED:20250307T191947Z
LAST-MODIFIED:20250307T191947Z
UID:10004954-1745312400-1745316000@dph.sbcounty.gov
SUMMARY:Gibson Senior Center - Tai Chi for Arthritis and Fall Prevention
DESCRIPTION:Tai Chi for Arthritis and Fall Prevention is designed to improve multiple aspects of health through slow\, gentle movements. The program\nis suitable for adults with or without arthritis\, rheumatic\, or musculoskeletal conditions.
URL:https://dph.sbcounty.gov/event/gibson-senior-center-tai-chi-for-arthritis-and-fall-prevention/2025-04-22/
LOCATION:Gibson Senior Center\, 250 N 3rd Ave\, Upland\, CA\, 91786\, United States
END:VEVENT
BEGIN:VEVENT
DTSTART;TZID=America/Los_Angeles:20250415T090000
DTEND;TZID=America/Los_Angeles:20250415T100000
DTSTAMP:20260423T000102
CREATED:20250307T191947Z
LAST-MODIFIED:20250307T191947Z
UID:10004951-1744707600-1744711200@dph.sbcounty.gov
SUMMARY:Gibson Senior Center - Tai Chi for Arthritis and Fall Prevention
DESCRIPTION:Tai Chi for Arthritis and Fall Prevention is designed to improve multiple aspects of health through slow\, gentle movements. The program\nis suitable for adults with or without arthritis\, rheumatic\, or musculoskeletal conditions.
URL:https://dph.sbcounty.gov/event/gibson-senior-center-tai-chi-for-arthritis-and-fall-prevention/2025-04-15/
LOCATION:Gibson Senior Center\, 250 N 3rd Ave\, Upland\, CA\, 91786\, United States
END:VEVENT
BEGIN:VEVENT
DTSTART;TZID=America/Los_Angeles:20250408T090000
DTEND;TZID=America/Los_Angeles:20250408T100000
DTSTAMP:20260423T000102
CREATED:20250307T191947Z
LAST-MODIFIED:20250307T191947Z
UID:10004948-1744102800-1744106400@dph.sbcounty.gov
SUMMARY:Gibson Senior Center - Tai Chi for Arthritis and Fall Prevention
DESCRIPTION:Tai Chi for Arthritis and Fall Prevention is designed to improve multiple aspects of health through slow\, gentle movements. The program\nis suitable for adults with or without arthritis\, rheumatic\, or musculoskeletal conditions.
URL:https://dph.sbcounty.gov/event/gibson-senior-center-tai-chi-for-arthritis-and-fall-prevention/2025-04-08/
LOCATION:Gibson Senior Center\, 250 N 3rd Ave\, Upland\, CA\, 91786\, United States
END:VEVENT
BEGIN:VEVENT
DTSTART;TZID=America/Los_Angeles:20250401T090000
DTEND;TZID=America/Los_Angeles:20250401T100000
DTSTAMP:20260423T000102
CREATED:20250307T191947Z
LAST-MODIFIED:20250307T191947Z
UID:10004945-1743498000-1743501600@dph.sbcounty.gov
SUMMARY:Gibson Senior Center - Tai Chi for Arthritis and Fall Prevention
DESCRIPTION:Tai Chi for Arthritis and Fall Prevention is designed to improve multiple aspects of health through slow\, gentle movements. The program\nis suitable for adults with or without arthritis\, rheumatic\, or musculoskeletal conditions.
URL:https://dph.sbcounty.gov/event/gibson-senior-center-tai-chi-for-arthritis-and-fall-prevention/2025-04-01/
LOCATION:Gibson Senior Center\, 250 N 3rd Ave\, Upland\, CA\, 91786\, United States
END:VEVENT
BEGIN:VEVENT
DTSTART;TZID=America/Los_Angeles:20250325T090000
DTEND;TZID=America/Los_Angeles:20250325T100000
DTSTAMP:20260423T000102
CREATED:20250307T191947Z
LAST-MODIFIED:20250307T191947Z
UID:10004942-1742893200-1742896800@dph.sbcounty.gov
SUMMARY:Gibson Senior Center - Tai Chi for Arthritis and Fall Prevention
DESCRIPTION:Tai Chi for Arthritis and Fall Prevention is designed to improve multiple aspects of health through slow\, gentle movements. The program\nis suitable for adults with or without arthritis\, rheumatic\, or musculoskeletal conditions.
URL:https://dph.sbcounty.gov/event/gibson-senior-center-tai-chi-for-arthritis-and-fall-prevention/2025-03-25/
LOCATION:Gibson Senior Center\, 250 N 3rd Ave\, Upland\, CA\, 91786\, United States
END:VEVENT
BEGIN:VEVENT
DTSTART;TZID=America/Los_Angeles:20250318T090000
DTEND;TZID=America/Los_Angeles:20250318T100000
DTSTAMP:20260423T000102
CREATED:20250307T191947Z
LAST-MODIFIED:20250307T191947Z
UID:10004939-1742288400-1742292000@dph.sbcounty.gov
SUMMARY:Gibson Senior Center - Tai Chi for Arthritis and Fall Prevention
DESCRIPTION:Tai Chi for Arthritis and Fall Prevention is designed to improve multiple aspects of health through slow\, gentle movements. The program\nis suitable for adults with or without arthritis\, rheumatic\, or musculoskeletal conditions.
URL:https://dph.sbcounty.gov/event/gibson-senior-center-tai-chi-for-arthritis-and-fall-prevention/2025-03-18/
LOCATION:Gibson Senior Center\, 250 N 3rd Ave\, Upland\, CA\, 91786\, United States
END:VEVENT
BEGIN:VEVENT
DTSTART;TZID=America/Los_Angeles:20250311T090000
DTEND;TZID=America/Los_Angeles:20250311T100000
DTSTAMP:20260423T000102
CREATED:20250307T191947Z
LAST-MODIFIED:20250307T191947Z
UID:10004936-1741683600-1741687200@dph.sbcounty.gov
SUMMARY:Gibson Senior Center - Tai Chi for Arthritis and Fall Prevention
DESCRIPTION:Tai Chi for Arthritis and Fall Prevention is designed to improve multiple aspects of health through slow\, gentle movements. The program\nis suitable for adults with or without arthritis\, rheumatic\, or musculoskeletal conditions.
URL:https://dph.sbcounty.gov/event/gibson-senior-center-tai-chi-for-arthritis-and-fall-prevention/2025-03-11/
LOCATION:Gibson Senior Center\, 250 N 3rd Ave\, Upland\, CA\, 91786\, United States
END:VEVENT
BEGIN:VEVENT
DTSTART;TZID=America/Los_Angeles:20250214T100000
DTEND;TZID=America/Los_Angeles:20250214T150000
DTSTAMP:20260423T000102
CREATED:20250128T155220Z
LAST-MODIFIED:20250128T155220Z
UID:10004852-1739527200-1739545200@dph.sbcounty.gov
SUMMARY:Gibson Senior Center – Flu and COVID-19 Vaccination Event
DESCRIPTION:Gibson Senior Center\nFriday\, February 14\, 2025\n250 N 3rd Ave.\, UplandHours: 10 a.m. – 3 p.m.\nRegister at MyTurn.ca.gov \nSan Bernardino County residents are eligible to receive a free updated flu and/or COVID-19 vaccine. No insurance is necessary! Appointments are encouraged\, walk-ins are welcome! \nFlu vaccines are available for those 3 years and older. Moderna vaccines are available for those 6 months and older.
URL:https://dph.sbcounty.gov/event/gibson-senior-center-flu-and-covid-19-vaccination-event-10/
LOCATION:Gibson Senior Center\, 250 N 3rd Ave\, Upland\, CA\, 91786\, United States
CATEGORIES:COVID-19 Vaccination Event,Flu Vaccine Clinic
ATTACH;FMTTYPE=image/png:https://dph.sbcounty.gov/wp-content/uploads/sites/7/Flu-2425-logo.png
END:VEVENT
BEGIN:VEVENT
DTSTART;TZID=America/Los_Angeles:20250124T100000
DTEND;TZID=America/Los_Angeles:20250124T150000
DTSTAMP:20260423T000102
CREATED:20241218T193700Z
LAST-MODIFIED:20241219T001752Z
UID:10004805-1737712800-1737730800@dph.sbcounty.gov
SUMMARY:Gibson Senior Center – Flu and COVID-19 Vaccination Event
DESCRIPTION:Gibson Senior Center\nFriday\, January 24\, 2025\n230 N 3rd Ave\nUplandHours: 10 a.m. – 3 p.m.\nRegister at MyTurn.ca.gov \nSan Bernardino County residents are eligible to receive a free updated flu and/or COVID-19 vaccine. No insurance is necessary! Appointments are encouraged\, walk-ins are welcome! \nFlu vaccines are available for those 3 years and older. Moderna vaccines are available for those 6 months and older.
URL:https://dph.sbcounty.gov/event/gibson-senior-center-flu-and-covid-19-vaccination-event-9/
LOCATION:Gibson Senior Center\, 250 N 3rd Ave\, Upland\, CA\, 91786\, United States
CATEGORIES:COVID-19 Vaccination Event,Flu Vaccine Clinic
ATTACH;FMTTYPE=image/png:https://dph.sbcounty.gov/wp-content/uploads/sites/7/Flu-2425-logo.png
END:VEVENT
BEGIN:VEVENT
DTSTART;TZID=America/Los_Angeles:20250110T100000
DTEND;TZID=America/Los_Angeles:20250110T150000
DTSTAMP:20260423T000102
CREATED:20241218T192627Z
LAST-MODIFIED:20241219T001623Z
UID:10004796-1736503200-1736521200@dph.sbcounty.gov
SUMMARY:Gibson Senior Center – Flu and COVID-19 Vaccination Event
DESCRIPTION:Gibson Senior Center\nFriday\, January 10\, 2025\n230 N 3rd Ave\nUplandHours: 10 a.m. – 3 p.m.\nRegister at MyTurn.ca.gov \nSan Bernardino County residents are eligible to receive a free updated flu and/or COVID-19 vaccine. No insurance is necessary! Appointments are encouraged\, walk-ins are welcome! \nFlu vaccines are available for those 3 years and older. Moderna vaccines are available for those 6 months and older.
URL:https://dph.sbcounty.gov/event/gibson-senior-center-flu-and-covid-19-vaccination-event-8/
LOCATION:Gibson Senior Center\, 250 N 3rd Ave\, Upland\, CA\, 91786\, United States
CATEGORIES:COVID-19 Vaccination Event,Flu Vaccine Clinic
ATTACH;FMTTYPE=image/png:https://dph.sbcounty.gov/wp-content/uploads/sites/7/Flu-2425-logo.png
END:VEVENT
END:VCALENDAR