BEGIN:VCALENDAR
VERSION:2.0
PRODID:-//Department of Public Health - ECPv6.15.14//NONSGML v1.0//EN
CALSCALE:GREGORIAN
METHOD:PUBLISH
X-WR-CALNAME:Department of Public Health
X-ORIGINAL-URL:https://dph.sbcounty.gov
X-WR-CALDESC:Events for Department of Public Health
REFRESH-INTERVAL;VALUE=DURATION:PT1H
X-Robots-Tag:noindex
X-PUBLISHED-TTL:PT1H
BEGIN:VTIMEZONE
TZID:America/Los_Angeles
BEGIN:DAYLIGHT
TZOFFSETFROM:-0800
TZOFFSETTO:-0700
TZNAME:PDT
DTSTART:20230312T100000
END:DAYLIGHT
BEGIN:STANDARD
TZOFFSETFROM:-0700
TZOFFSETTO:-0800
TZNAME:PST
DTSTART:20231105T090000
END:STANDARD
BEGIN:DAYLIGHT
TZOFFSETFROM:-0800
TZOFFSETTO:-0700
TZNAME:PDT
DTSTART:20240310T100000
END:DAYLIGHT
BEGIN:STANDARD
TZOFFSETFROM:-0700
TZOFFSETTO:-0800
TZNAME:PST
DTSTART:20241103T090000
END:STANDARD
BEGIN:DAYLIGHT
TZOFFSETFROM:-0800
TZOFFSETTO:-0700
TZNAME:PDT
DTSTART:20250309T100000
END:DAYLIGHT
BEGIN:STANDARD
TZOFFSETFROM:-0700
TZOFFSETTO:-0800
TZNAME:PST
DTSTART:20251102T090000
END:STANDARD
BEGIN:DAYLIGHT
TZOFFSETFROM:-0800
TZOFFSETTO:-0700
TZNAME:PDT
DTSTART:20260308T100000
END:DAYLIGHT
BEGIN:STANDARD
TZOFFSETFROM:-0700
TZOFFSETTO:-0800
TZNAME:PST
DTSTART:20261101T090000
END:STANDARD
END:VTIMEZONE
BEGIN:VEVENT
DTSTART;TZID=America/Los_Angeles:20250407T150000
DTEND;TZID=America/Los_Angeles:20250407T160000
DTSTAMP:20260424T010225
CREATED:20250307T200951Z
LAST-MODIFIED:20250307T200951Z
UID:10005185-1744038000-1744041600@dph.sbcounty.gov
SUMMARY:Grace Vargas Senior Center - Bingocize Nutrition and Exercise Class
DESCRIPTION:Bingocize is a fun 10-week health promotion program that combines the game of bingo with inclusive exercises for everyone (seated or standing). Come play bingo and meet new people while learning about nutrition! \nClass is held Mondays and Wednesdays from Jan. 27 – April 7. No class on Monday\, Feb. 17.
URL:https://dph.sbcounty.gov/event/grace-vargas-senior-center-bingocize-nutrition-and-exercise-class/2025-04-07/
LOCATION:Grace Vargas Senior Center\, 1411 S. Riverside Ave.\, Rialto\, CA\, 92376\, United States
CATEGORIES:Nutrition
END:VEVENT
BEGIN:VEVENT
DTSTART;TZID=America/Los_Angeles:20250402T150000
DTEND;TZID=America/Los_Angeles:20250402T160000
DTSTAMP:20260424T010225
CREATED:20250307T200951Z
LAST-MODIFIED:20250307T200951Z
UID:10005182-1743606000-1743609600@dph.sbcounty.gov
SUMMARY:Grace Vargas Senior Center - Bingocize Nutrition and Exercise Class
DESCRIPTION:Bingocize is a fun 10-week health promotion program that combines the game of bingo with inclusive exercises for everyone (seated or standing). Come play bingo and meet new people while learning about nutrition! \nClass is held Mondays and Wednesdays from Jan. 27 – April 7. No class on Monday\, Feb. 17.
URL:https://dph.sbcounty.gov/event/grace-vargas-senior-center-bingocize-nutrition-and-exercise-class/2025-04-02/
LOCATION:Grace Vargas Senior Center\, 1411 S. Riverside Ave.\, Rialto\, CA\, 92376\, United States
CATEGORIES:Nutrition
END:VEVENT
BEGIN:VEVENT
DTSTART;TZID=America/Los_Angeles:20250331T150000
DTEND;TZID=America/Los_Angeles:20250331T160000
DTSTAMP:20260424T010225
CREATED:20250307T200951Z
LAST-MODIFIED:20250307T200951Z
UID:10005179-1743433200-1743436800@dph.sbcounty.gov
SUMMARY:Grace Vargas Senior Center - Bingocize Nutrition and Exercise Class
DESCRIPTION:Bingocize is a fun 10-week health promotion program that combines the game of bingo with inclusive exercises for everyone (seated or standing). Come play bingo and meet new people while learning about nutrition! \nClass is held Mondays and Wednesdays from Jan. 27 – April 7. No class on Monday\, Feb. 17.
URL:https://dph.sbcounty.gov/event/grace-vargas-senior-center-bingocize-nutrition-and-exercise-class/2025-03-31/
LOCATION:Grace Vargas Senior Center\, 1411 S. Riverside Ave.\, Rialto\, CA\, 92376\, United States
CATEGORIES:Nutrition
END:VEVENT
BEGIN:VEVENT
DTSTART;TZID=America/Los_Angeles:20250326T150000
DTEND;TZID=America/Los_Angeles:20250326T160000
DTSTAMP:20260424T010225
CREATED:20250307T200951Z
LAST-MODIFIED:20250307T200951Z
UID:10005176-1743001200-1743004800@dph.sbcounty.gov
SUMMARY:Grace Vargas Senior Center - Bingocize Nutrition and Exercise Class
DESCRIPTION:Bingocize is a fun 10-week health promotion program that combines the game of bingo with inclusive exercises for everyone (seated or standing). Come play bingo and meet new people while learning about nutrition! \nClass is held Mondays and Wednesdays from Jan. 27 – April 7. No class on Monday\, Feb. 17.
URL:https://dph.sbcounty.gov/event/grace-vargas-senior-center-bingocize-nutrition-and-exercise-class/2025-03-26/
LOCATION:Grace Vargas Senior Center\, 1411 S. Riverside Ave.\, Rialto\, CA\, 92376\, United States
CATEGORIES:Nutrition
END:VEVENT
BEGIN:VEVENT
DTSTART;TZID=America/Los_Angeles:20250324T150000
DTEND;TZID=America/Los_Angeles:20250324T160000
DTSTAMP:20260424T010225
CREATED:20250307T200951Z
LAST-MODIFIED:20250307T200951Z
UID:10005173-1742828400-1742832000@dph.sbcounty.gov
SUMMARY:Grace Vargas Senior Center - Bingocize Nutrition and Exercise Class
DESCRIPTION:Bingocize is a fun 10-week health promotion program that combines the game of bingo with inclusive exercises for everyone (seated or standing). Come play bingo and meet new people while learning about nutrition! \nClass is held Mondays and Wednesdays from Jan. 27 – April 7. No class on Monday\, Feb. 17.
URL:https://dph.sbcounty.gov/event/grace-vargas-senior-center-bingocize-nutrition-and-exercise-class/2025-03-24/
LOCATION:Grace Vargas Senior Center\, 1411 S. Riverside Ave.\, Rialto\, CA\, 92376\, United States
CATEGORIES:Nutrition
END:VEVENT
BEGIN:VEVENT
DTSTART;TZID=America/Los_Angeles:20250319T150000
DTEND;TZID=America/Los_Angeles:20250319T160000
DTSTAMP:20260424T010225
CREATED:20250307T200951Z
LAST-MODIFIED:20250307T200951Z
UID:10005170-1742396400-1742400000@dph.sbcounty.gov
SUMMARY:Grace Vargas Senior Center - Bingocize Nutrition and Exercise Class
DESCRIPTION:Bingocize is a fun 10-week health promotion program that combines the game of bingo with inclusive exercises for everyone (seated or standing). Come play bingo and meet new people while learning about nutrition! \nClass is held Mondays and Wednesdays from Jan. 27 – April 7. No class on Monday\, Feb. 17.
URL:https://dph.sbcounty.gov/event/grace-vargas-senior-center-bingocize-nutrition-and-exercise-class/2025-03-19/
LOCATION:Grace Vargas Senior Center\, 1411 S. Riverside Ave.\, Rialto\, CA\, 92376\, United States
CATEGORIES:Nutrition
END:VEVENT
BEGIN:VEVENT
DTSTART;TZID=America/Los_Angeles:20250317T150000
DTEND;TZID=America/Los_Angeles:20250317T160000
DTSTAMP:20260424T010225
CREATED:20250307T200951Z
LAST-MODIFIED:20250307T200951Z
UID:10005167-1742223600-1742227200@dph.sbcounty.gov
SUMMARY:Grace Vargas Senior Center - Bingocize Nutrition and Exercise Class
DESCRIPTION:Bingocize is a fun 10-week health promotion program that combines the game of bingo with inclusive exercises for everyone (seated or standing). Come play bingo and meet new people while learning about nutrition! \nClass is held Mondays and Wednesdays from Jan. 27 – April 7. No class on Monday\, Feb. 17.
URL:https://dph.sbcounty.gov/event/grace-vargas-senior-center-bingocize-nutrition-and-exercise-class/2025-03-17/
LOCATION:Grace Vargas Senior Center\, 1411 S. Riverside Ave.\, Rialto\, CA\, 92376\, United States
CATEGORIES:Nutrition
END:VEVENT
BEGIN:VEVENT
DTSTART;TZID=America/Los_Angeles:20250312T150000
DTEND;TZID=America/Los_Angeles:20250312T160000
DTSTAMP:20260424T010225
CREATED:20250307T200951Z
LAST-MODIFIED:20250307T200951Z
UID:10005164-1741791600-1741795200@dph.sbcounty.gov
SUMMARY:Grace Vargas Senior Center - Bingocize Nutrition and Exercise Class
DESCRIPTION:Bingocize is a fun 10-week health promotion program that combines the game of bingo with inclusive exercises for everyone (seated or standing). Come play bingo and meet new people while learning about nutrition! \nClass is held Mondays and Wednesdays from Jan. 27 – April 7. No class on Monday\, Feb. 17.
URL:https://dph.sbcounty.gov/event/grace-vargas-senior-center-bingocize-nutrition-and-exercise-class/2025-03-12/
LOCATION:Grace Vargas Senior Center\, 1411 S. Riverside Ave.\, Rialto\, CA\, 92376\, United States
CATEGORIES:Nutrition
END:VEVENT
BEGIN:VEVENT
DTSTART;TZID=America/Los_Angeles:20250310T150000
DTEND;TZID=America/Los_Angeles:20250310T160000
DTSTAMP:20260424T010225
CREATED:20250307T200951Z
LAST-MODIFIED:20250307T200951Z
UID:10005161-1741618800-1741622400@dph.sbcounty.gov
SUMMARY:Grace Vargas Senior Center - Bingocize Nutrition and Exercise Class
DESCRIPTION:Bingocize is a fun 10-week health promotion program that combines the game of bingo with inclusive exercises for everyone (seated or standing). Come play bingo and meet new people while learning about nutrition! \nClass is held Mondays and Wednesdays from Jan. 27 – April 7. No class on Monday\, Feb. 17.
URL:https://dph.sbcounty.gov/event/grace-vargas-senior-center-bingocize-nutrition-and-exercise-class/2025-03-10/
LOCATION:Grace Vargas Senior Center\, 1411 S. Riverside Ave.\, Rialto\, CA\, 92376\, United States
CATEGORIES:Nutrition
END:VEVENT
BEGIN:VEVENT
DTSTART;TZID=America/Los_Angeles:20250305T150000
DTEND;TZID=America/Los_Angeles:20250305T160000
DTSTAMP:20260424T010225
CREATED:20250307T200951Z
LAST-MODIFIED:20250307T200951Z
UID:10005158-1741186800-1741190400@dph.sbcounty.gov
SUMMARY:Grace Vargas Senior Center - Bingocize Nutrition and Exercise Class
DESCRIPTION:Bingocize is a fun 10-week health promotion program that combines the game of bingo with inclusive exercises for everyone (seated or standing). Come play bingo and meet new people while learning about nutrition! \nClass is held Mondays and Wednesdays from Jan. 27 – April 7. No class on Monday\, Feb. 17.
URL:https://dph.sbcounty.gov/event/grace-vargas-senior-center-bingocize-nutrition-and-exercise-class/2025-03-05/
LOCATION:Grace Vargas Senior Center\, 1411 S. Riverside Ave.\, Rialto\, CA\, 92376\, United States
CATEGORIES:Nutrition
END:VEVENT
BEGIN:VEVENT
DTSTART;TZID=America/Los_Angeles:20250303T150000
DTEND;TZID=America/Los_Angeles:20250303T160000
DTSTAMP:20260424T010225
CREATED:20250307T200951Z
LAST-MODIFIED:20250307T200951Z
UID:10005155-1741014000-1741017600@dph.sbcounty.gov
SUMMARY:Grace Vargas Senior Center - Bingocize Nutrition and Exercise Class
DESCRIPTION:Bingocize is a fun 10-week health promotion program that combines the game of bingo with inclusive exercises for everyone (seated or standing). Come play bingo and meet new people while learning about nutrition! \nClass is held Mondays and Wednesdays from Jan. 27 – April 7. No class on Monday\, Feb. 17.
URL:https://dph.sbcounty.gov/event/grace-vargas-senior-center-bingocize-nutrition-and-exercise-class/2025-03-03/
LOCATION:Grace Vargas Senior Center\, 1411 S. Riverside Ave.\, Rialto\, CA\, 92376\, United States
CATEGORIES:Nutrition
END:VEVENT
BEGIN:VEVENT
DTSTART;TZID=America/Los_Angeles:20250226T150000
DTEND;TZID=America/Los_Angeles:20250226T160000
DTSTAMP:20260424T010225
CREATED:20250307T200951Z
LAST-MODIFIED:20250307T200951Z
UID:10005152-1740582000-1740585600@dph.sbcounty.gov
SUMMARY:Grace Vargas Senior Center - Bingocize Nutrition and Exercise Class
DESCRIPTION:Bingocize is a fun 10-week health promotion program that combines the game of bingo with inclusive exercises for everyone (seated or standing). Come play bingo and meet new people while learning about nutrition! \nClass is held Mondays and Wednesdays from Jan. 27 – April 7. No class on Monday\, Feb. 17.
URL:https://dph.sbcounty.gov/event/grace-vargas-senior-center-bingocize-nutrition-and-exercise-class/2025-02-26/
LOCATION:Grace Vargas Senior Center\, 1411 S. Riverside Ave.\, Rialto\, CA\, 92376\, United States
CATEGORIES:Nutrition
END:VEVENT
BEGIN:VEVENT
DTSTART;TZID=America/Los_Angeles:20250224T150000
DTEND;TZID=America/Los_Angeles:20250224T160000
DTSTAMP:20260424T010225
CREATED:20250307T200951Z
LAST-MODIFIED:20250307T200951Z
UID:10005149-1740409200-1740412800@dph.sbcounty.gov
SUMMARY:Grace Vargas Senior Center - Bingocize Nutrition and Exercise Class
DESCRIPTION:Bingocize is a fun 10-week health promotion program that combines the game of bingo with inclusive exercises for everyone (seated or standing). Come play bingo and meet new people while learning about nutrition! \nClass is held Mondays and Wednesdays from Jan. 27 – April 7. No class on Monday\, Feb. 17.
URL:https://dph.sbcounty.gov/event/grace-vargas-senior-center-bingocize-nutrition-and-exercise-class/2025-02-24/
LOCATION:Grace Vargas Senior Center\, 1411 S. Riverside Ave.\, Rialto\, CA\, 92376\, United States
CATEGORIES:Nutrition
END:VEVENT
BEGIN:VEVENT
DTSTART;TZID=America/Los_Angeles:20250219T150000
DTEND;TZID=America/Los_Angeles:20250219T160000
DTSTAMP:20260424T010225
CREATED:20250307T200951Z
LAST-MODIFIED:20250307T200951Z
UID:10005146-1739977200-1739980800@dph.sbcounty.gov
SUMMARY:Grace Vargas Senior Center - Bingocize Nutrition and Exercise Class
DESCRIPTION:Bingocize is a fun 10-week health promotion program that combines the game of bingo with inclusive exercises for everyone (seated or standing). Come play bingo and meet new people while learning about nutrition! \nClass is held Mondays and Wednesdays from Jan. 27 – April 7. No class on Monday\, Feb. 17.
URL:https://dph.sbcounty.gov/event/grace-vargas-senior-center-bingocize-nutrition-and-exercise-class/2025-02-19/
LOCATION:Grace Vargas Senior Center\, 1411 S. Riverside Ave.\, Rialto\, CA\, 92376\, United States
CATEGORIES:Nutrition
END:VEVENT
BEGIN:VEVENT
DTSTART;TZID=America/Los_Angeles:20250212T150000
DTEND;TZID=America/Los_Angeles:20250212T160000
DTSTAMP:20260424T010225
CREATED:20250307T200951Z
LAST-MODIFIED:20250307T200951Z
UID:10005143-1739372400-1739376000@dph.sbcounty.gov
SUMMARY:Grace Vargas Senior Center - Bingocize Nutrition and Exercise Class
DESCRIPTION:Bingocize is a fun 10-week health promotion program that combines the game of bingo with inclusive exercises for everyone (seated or standing). Come play bingo and meet new people while learning about nutrition! \nClass is held Mondays and Wednesdays from Jan. 27 – April 7. No class on Monday\, Feb. 17.
URL:https://dph.sbcounty.gov/event/grace-vargas-senior-center-bingocize-nutrition-and-exercise-class/2025-02-12/
LOCATION:Grace Vargas Senior Center\, 1411 S. Riverside Ave.\, Rialto\, CA\, 92376\, United States
CATEGORIES:Nutrition
END:VEVENT
BEGIN:VEVENT
DTSTART;TZID=America/Los_Angeles:20250210T150000
DTEND;TZID=America/Los_Angeles:20250210T160000
DTSTAMP:20260424T010225
CREATED:20250307T200951Z
LAST-MODIFIED:20250307T200951Z
UID:10005140-1739199600-1739203200@dph.sbcounty.gov
SUMMARY:Grace Vargas Senior Center - Bingocize Nutrition and Exercise Class
DESCRIPTION:Bingocize is a fun 10-week health promotion program that combines the game of bingo with inclusive exercises for everyone (seated or standing). Come play bingo and meet new people while learning about nutrition! \nClass is held Mondays and Wednesdays from Jan. 27 – April 7. No class on Monday\, Feb. 17.
URL:https://dph.sbcounty.gov/event/grace-vargas-senior-center-bingocize-nutrition-and-exercise-class/2025-02-10/
LOCATION:Grace Vargas Senior Center\, 1411 S. Riverside Ave.\, Rialto\, CA\, 92376\, United States
CATEGORIES:Nutrition
END:VEVENT
BEGIN:VEVENT
DTSTART;TZID=America/Los_Angeles:20250205T150000
DTEND;TZID=America/Los_Angeles:20250205T160000
DTSTAMP:20260424T010225
CREATED:20250307T200951Z
LAST-MODIFIED:20250307T200951Z
UID:10005137-1738767600-1738771200@dph.sbcounty.gov
SUMMARY:Grace Vargas Senior Center - Bingocize Nutrition and Exercise Class
DESCRIPTION:Bingocize is a fun 10-week health promotion program that combines the game of bingo with inclusive exercises for everyone (seated or standing). Come play bingo and meet new people while learning about nutrition! \nClass is held Mondays and Wednesdays from Jan. 27 – April 7. No class on Monday\, Feb. 17.
URL:https://dph.sbcounty.gov/event/grace-vargas-senior-center-bingocize-nutrition-and-exercise-class/2025-02-05/
LOCATION:Grace Vargas Senior Center\, 1411 S. Riverside Ave.\, Rialto\, CA\, 92376\, United States
CATEGORIES:Nutrition
END:VEVENT
BEGIN:VEVENT
DTSTART;TZID=America/Los_Angeles:20250203T150000
DTEND;TZID=America/Los_Angeles:20250203T160000
DTSTAMP:20260424T010225
CREATED:20250307T200951Z
LAST-MODIFIED:20250307T200951Z
UID:10005134-1738594800-1738598400@dph.sbcounty.gov
SUMMARY:Grace Vargas Senior Center - Bingocize Nutrition and Exercise Class
DESCRIPTION:Bingocize is a fun 10-week health promotion program that combines the game of bingo with inclusive exercises for everyone (seated or standing). Come play bingo and meet new people while learning about nutrition! \nClass is held Mondays and Wednesdays from Jan. 27 – April 7. No class on Monday\, Feb. 17.
URL:https://dph.sbcounty.gov/event/grace-vargas-senior-center-bingocize-nutrition-and-exercise-class/2025-02-03/
LOCATION:Grace Vargas Senior Center\, 1411 S. Riverside Ave.\, Rialto\, CA\, 92376\, United States
CATEGORIES:Nutrition
END:VEVENT
BEGIN:VEVENT
DTSTART;TZID=America/Los_Angeles:20250129T150000
DTEND;TZID=America/Los_Angeles:20250129T160000
DTSTAMP:20260424T010225
CREATED:20250307T200951Z
LAST-MODIFIED:20250307T200951Z
UID:10005131-1738162800-1738166400@dph.sbcounty.gov
SUMMARY:Grace Vargas Senior Center - Bingocize Nutrition and Exercise Class
DESCRIPTION:Bingocize is a fun 10-week health promotion program that combines the game of bingo with inclusive exercises for everyone (seated or standing). Come play bingo and meet new people while learning about nutrition! \nClass is held Mondays and Wednesdays from Jan. 27 – April 7. No class on Monday\, Feb. 17.
URL:https://dph.sbcounty.gov/event/grace-vargas-senior-center-bingocize-nutrition-and-exercise-class/2025-01-29/
LOCATION:Grace Vargas Senior Center\, 1411 S. Riverside Ave.\, Rialto\, CA\, 92376\, United States
CATEGORIES:Nutrition
END:VEVENT
BEGIN:VEVENT
DTSTART;TZID=America/Los_Angeles:20250127T150000
DTEND;TZID=America/Los_Angeles:20250127T160000
DTSTAMP:20260424T010225
CREATED:20250307T200951Z
LAST-MODIFIED:20250307T200951Z
UID:10005128-1737990000-1737993600@dph.sbcounty.gov
SUMMARY:Grace Vargas Senior Center - Bingocize Nutrition and Exercise Class
DESCRIPTION:Bingocize is a fun 10-week health promotion program that combines the game of bingo with inclusive exercises for everyone (seated or standing). Come play bingo and meet new people while learning about nutrition! \nClass is held Mondays and Wednesdays from Jan. 27 – April 7. No class on Monday\, Feb. 17.
URL:https://dph.sbcounty.gov/event/grace-vargas-senior-center-bingocize-nutrition-and-exercise-class/2025-01-27/
LOCATION:Grace Vargas Senior Center\, 1411 S. Riverside Ave.\, Rialto\, CA\, 92376\, United States
CATEGORIES:Nutrition
END:VEVENT
BEGIN:VEVENT
DTSTART;TZID=America/Los_Angeles:20241121T090000
DTEND;TZID=America/Los_Angeles:20241121T170000
DTSTAMP:20260424T010225
CREATED:20241023T221319Z
LAST-MODIFIED:20241104T222438Z
UID:10004760-1732179600-1732208400@dph.sbcounty.gov
SUMMARY:Grace Vargas Senior Center – Flu and COVID-19 Vaccination Event
DESCRIPTION:Grace Vargas Senior Center\nThursday\, November 21\, 2024\n1411 S. Riverside Ave/\nRialtoHours: 9 a.m. – 5 p.m.\nRegister at MyTurn.ca.gov \nSan Bernardino County residents are eligible to receive a free updated flu and/or COVID-19 vaccine. No insurance is necessary! Appointments are encouraged\, walk-ins are welcome! \nFlu vaccines are available for those 3 years and older. Moderna vaccines are available for those 6 months and older.
URL:https://dph.sbcounty.gov/event/grace-vargas-senior-center-flu-and-covid-19-vaccination-event-february-27-200-pm-500-pm-free-2/
LOCATION:Grace Vargas Senior Center\, 1411 S. Riverside Ave.\, Rialto\, CA\, 92376\, United States
CATEGORIES:COVID-19 Vaccination Event,Flu Vaccine Clinic
ATTACH;FMTTYPE=image/png:https://dph.sbcounty.gov/wp-content/uploads/sites/7/Flu-2425-logo.png
END:VEVENT
BEGIN:VEVENT
DTSTART;TZID=America/Los_Angeles:20241107T090000
DTEND;TZID=America/Los_Angeles:20241107T170000
DTSTAMP:20260424T010225
CREATED:20241023T215330Z
LAST-MODIFIED:20241102T000932Z
UID:10004745-1730970000-1730998800@dph.sbcounty.gov
SUMMARY:Grace Vargas Senior Center – Flu and COVID-19 Vaccination Event
DESCRIPTION:Grace Vargas Senior Center\nThursday\, November 7\, 2024 \n1411 S. Riverside Ave. \nRialto \nHours: 9 a.m. – 5 p.m. \nRegister at MyTurn.ca.gov \nSan Bernardino County residents are eligible to receive a free updated flu and/or COVID-19 vaccine. No insurance is necessary! Appointments are encouraged\, walk-ins are welcome! \nFlu vaccines are available for those 3 years and older. Moderna vaccines are available for those 6 months and older.
URL:https://dph.sbcounty.gov/event/grace-vargas-senior-center-flu-and-covid-19-vaccination-event-february-27-200-pm-500-pm-free/
LOCATION:Grace Vargas Senior Center\, 1411 S. Riverside Ave.\, Rialto\, CA\, 92376\, United States
CATEGORIES:COVID-19 Vaccination Event,Flu Vaccine Clinic
ATTACH;FMTTYPE=image/png:https://dph.sbcounty.gov/wp-content/uploads/sites/7/Flu-2425-logo.png
END:VEVENT
END:VCALENDAR