BEGIN:VCALENDAR
VERSION:2.0
PRODID:-//Department of Public Health - ECPv6.15.14//NONSGML v1.0//EN
CALSCALE:GREGORIAN
METHOD:PUBLISH
X-WR-CALNAME:Department of Public Health
X-ORIGINAL-URL:https://dph.sbcounty.gov
X-WR-CALDESC:Events for Department of Public Health
REFRESH-INTERVAL;VALUE=DURATION:PT1H
X-Robots-Tag:noindex
X-PUBLISHED-TTL:PT1H
BEGIN:VTIMEZONE
TZID:America/Los_Angeles
BEGIN:DAYLIGHT
TZOFFSETFROM:-0800
TZOFFSETTO:-0700
TZNAME:PDT
DTSTART:20230312T100000
END:DAYLIGHT
BEGIN:STANDARD
TZOFFSETFROM:-0700
TZOFFSETTO:-0800
TZNAME:PST
DTSTART:20231105T090000
END:STANDARD
BEGIN:DAYLIGHT
TZOFFSETFROM:-0800
TZOFFSETTO:-0700
TZNAME:PDT
DTSTART:20240310T100000
END:DAYLIGHT
BEGIN:STANDARD
TZOFFSETFROM:-0700
TZOFFSETTO:-0800
TZNAME:PST
DTSTART:20241103T090000
END:STANDARD
BEGIN:DAYLIGHT
TZOFFSETFROM:-0800
TZOFFSETTO:-0700
TZNAME:PDT
DTSTART:20250309T100000
END:DAYLIGHT
BEGIN:STANDARD
TZOFFSETFROM:-0700
TZOFFSETTO:-0800
TZNAME:PST
DTSTART:20251102T090000
END:STANDARD
BEGIN:DAYLIGHT
TZOFFSETFROM:-0800
TZOFFSETTO:-0700
TZNAME:PDT
DTSTART:20260308T100000
END:DAYLIGHT
BEGIN:STANDARD
TZOFFSETFROM:-0700
TZOFFSETTO:-0800
TZNAME:PST
DTSTART:20261101T090000
END:STANDARD
END:VTIMEZONE
BEGIN:VEVENT
DTSTART;TZID=America/Los_Angeles:20250508T090000
DTEND;TZID=America/Los_Angeles:20250508T100000
DTSTAMP:20260421T184711
CREATED:20250307T192604Z
LAST-MODIFIED:20250307T193819Z
UID:10005017-1746694800-1746698400@dph.sbcounty.gov
SUMMARY:Hutton Community Center - Bingocize Nutrition and Exercise Class
DESCRIPTION:Bingocize is a fun 10-week health promotion program that combines the game of bingo with inclusive exercises for everyone (seated or standing). Come play bingo and meet new people while learning about nutrition! \nClass is held Tuesdays and Thursdays from March 4 – May 8.
URL:https://dph.sbcounty.gov/event/hutton-community-center-bingocize-nutrition-and-exercise-class/2025-05-08/
LOCATION:Hutton Community Center\, 660 Colton Ave.\, Colton\, CA\, 92324\, United States
CATEGORIES:Nutrition
END:VEVENT
BEGIN:VEVENT
DTSTART;TZID=America/Los_Angeles:20250506T090000
DTEND;TZID=America/Los_Angeles:20250506T100000
DTSTAMP:20260421T184711
CREATED:20250307T192604Z
LAST-MODIFIED:20250307T193819Z
UID:10005014-1746522000-1746525600@dph.sbcounty.gov
SUMMARY:Hutton Community Center - Bingocize Nutrition and Exercise Class
DESCRIPTION:Bingocize is a fun 10-week health promotion program that combines the game of bingo with inclusive exercises for everyone (seated or standing). Come play bingo and meet new people while learning about nutrition! \nClass is held Tuesdays and Thursdays from March 4 – May 8.
URL:https://dph.sbcounty.gov/event/hutton-community-center-bingocize-nutrition-and-exercise-class/2025-05-06/
LOCATION:Hutton Community Center\, 660 Colton Ave.\, Colton\, CA\, 92324\, United States
CATEGORIES:Nutrition
END:VEVENT
BEGIN:VEVENT
DTSTART;TZID=America/Los_Angeles:20250501T090000
DTEND;TZID=America/Los_Angeles:20250501T100000
DTSTAMP:20260421T184711
CREATED:20250307T192604Z
LAST-MODIFIED:20250307T193819Z
UID:10005011-1746090000-1746093600@dph.sbcounty.gov
SUMMARY:Hutton Community Center - Bingocize Nutrition and Exercise Class
DESCRIPTION:Bingocize is a fun 10-week health promotion program that combines the game of bingo with inclusive exercises for everyone (seated or standing). Come play bingo and meet new people while learning about nutrition! \nClass is held Tuesdays and Thursdays from March 4 – May 8.
URL:https://dph.sbcounty.gov/event/hutton-community-center-bingocize-nutrition-and-exercise-class/2025-05-01/
LOCATION:Hutton Community Center\, 660 Colton Ave.\, Colton\, CA\, 92324\, United States
CATEGORIES:Nutrition
END:VEVENT
BEGIN:VEVENT
DTSTART;TZID=America/Los_Angeles:20250429T090000
DTEND;TZID=America/Los_Angeles:20250429T100000
DTSTAMP:20260421T184711
CREATED:20250307T192604Z
LAST-MODIFIED:20250307T193819Z
UID:10005008-1745917200-1745920800@dph.sbcounty.gov
SUMMARY:Hutton Community Center - Bingocize Nutrition and Exercise Class
DESCRIPTION:Bingocize is a fun 10-week health promotion program that combines the game of bingo with inclusive exercises for everyone (seated or standing). Come play bingo and meet new people while learning about nutrition! \nClass is held Tuesdays and Thursdays from March 4 – May 8.
URL:https://dph.sbcounty.gov/event/hutton-community-center-bingocize-nutrition-and-exercise-class/2025-04-29/
LOCATION:Hutton Community Center\, 660 Colton Ave.\, Colton\, CA\, 92324\, United States
CATEGORIES:Nutrition
END:VEVENT
BEGIN:VEVENT
DTSTART;TZID=America/Los_Angeles:20250424T090000
DTEND;TZID=America/Los_Angeles:20250424T100000
DTSTAMP:20260421T184711
CREATED:20250307T192604Z
LAST-MODIFIED:20250307T193819Z
UID:10005005-1745485200-1745488800@dph.sbcounty.gov
SUMMARY:Hutton Community Center - Bingocize Nutrition and Exercise Class
DESCRIPTION:Bingocize is a fun 10-week health promotion program that combines the game of bingo with inclusive exercises for everyone (seated or standing). Come play bingo and meet new people while learning about nutrition! \nClass is held Tuesdays and Thursdays from March 4 – May 8.
URL:https://dph.sbcounty.gov/event/hutton-community-center-bingocize-nutrition-and-exercise-class/2025-04-24/
LOCATION:Hutton Community Center\, 660 Colton Ave.\, Colton\, CA\, 92324\, United States
CATEGORIES:Nutrition
END:VEVENT
BEGIN:VEVENT
DTSTART;TZID=America/Los_Angeles:20250422T090000
DTEND;TZID=America/Los_Angeles:20250422T100000
DTSTAMP:20260421T184712
CREATED:20250307T192604Z
LAST-MODIFIED:20250307T193819Z
UID:10005002-1745312400-1745316000@dph.sbcounty.gov
SUMMARY:Hutton Community Center - Bingocize Nutrition and Exercise Class
DESCRIPTION:Bingocize is a fun 10-week health promotion program that combines the game of bingo with inclusive exercises for everyone (seated or standing). Come play bingo and meet new people while learning about nutrition! \nClass is held Tuesdays and Thursdays from March 4 – May 8.
URL:https://dph.sbcounty.gov/event/hutton-community-center-bingocize-nutrition-and-exercise-class/2025-04-22/
LOCATION:Hutton Community Center\, 660 Colton Ave.\, Colton\, CA\, 92324\, United States
CATEGORIES:Nutrition
END:VEVENT
BEGIN:VEVENT
DTSTART;TZID=America/Los_Angeles:20250417T090000
DTEND;TZID=America/Los_Angeles:20250417T100000
DTSTAMP:20260421T184712
CREATED:20250307T192604Z
LAST-MODIFIED:20250307T193819Z
UID:10004999-1744880400-1744884000@dph.sbcounty.gov
SUMMARY:Hutton Community Center - Bingocize Nutrition and Exercise Class
DESCRIPTION:Bingocize is a fun 10-week health promotion program that combines the game of bingo with inclusive exercises for everyone (seated or standing). Come play bingo and meet new people while learning about nutrition! \nClass is held Tuesdays and Thursdays from March 4 – May 8.
URL:https://dph.sbcounty.gov/event/hutton-community-center-bingocize-nutrition-and-exercise-class/2025-04-17/
LOCATION:Hutton Community Center\, 660 Colton Ave.\, Colton\, CA\, 92324\, United States
CATEGORIES:Nutrition
END:VEVENT
BEGIN:VEVENT
DTSTART;TZID=America/Los_Angeles:20250415T090000
DTEND;TZID=America/Los_Angeles:20250415T100000
DTSTAMP:20260421T184712
CREATED:20250307T192604Z
LAST-MODIFIED:20250307T193819Z
UID:10004996-1744707600-1744711200@dph.sbcounty.gov
SUMMARY:Hutton Community Center - Bingocize Nutrition and Exercise Class
DESCRIPTION:Bingocize is a fun 10-week health promotion program that combines the game of bingo with inclusive exercises for everyone (seated or standing). Come play bingo and meet new people while learning about nutrition! \nClass is held Tuesdays and Thursdays from March 4 – May 8.
URL:https://dph.sbcounty.gov/event/hutton-community-center-bingocize-nutrition-and-exercise-class/2025-04-15/
LOCATION:Hutton Community Center\, 660 Colton Ave.\, Colton\, CA\, 92324\, United States
CATEGORIES:Nutrition
END:VEVENT
BEGIN:VEVENT
DTSTART;TZID=America/Los_Angeles:20250410T090000
DTEND;TZID=America/Los_Angeles:20250410T100000
DTSTAMP:20260421T184712
CREATED:20250307T192604Z
LAST-MODIFIED:20250307T193819Z
UID:10004993-1744275600-1744279200@dph.sbcounty.gov
SUMMARY:Hutton Community Center - Bingocize Nutrition and Exercise Class
DESCRIPTION:Bingocize is a fun 10-week health promotion program that combines the game of bingo with inclusive exercises for everyone (seated or standing). Come play bingo and meet new people while learning about nutrition! \nClass is held Tuesdays and Thursdays from March 4 – May 8.
URL:https://dph.sbcounty.gov/event/hutton-community-center-bingocize-nutrition-and-exercise-class/2025-04-10/
LOCATION:Hutton Community Center\, 660 Colton Ave.\, Colton\, CA\, 92324\, United States
CATEGORIES:Nutrition
END:VEVENT
BEGIN:VEVENT
DTSTART;TZID=America/Los_Angeles:20250408T090000
DTEND;TZID=America/Los_Angeles:20250408T100000
DTSTAMP:20260421T184712
CREATED:20250307T192604Z
LAST-MODIFIED:20250307T193819Z
UID:10004990-1744102800-1744106400@dph.sbcounty.gov
SUMMARY:Hutton Community Center - Bingocize Nutrition and Exercise Class
DESCRIPTION:Bingocize is a fun 10-week health promotion program that combines the game of bingo with inclusive exercises for everyone (seated or standing). Come play bingo and meet new people while learning about nutrition! \nClass is held Tuesdays and Thursdays from March 4 – May 8.
URL:https://dph.sbcounty.gov/event/hutton-community-center-bingocize-nutrition-and-exercise-class/2025-04-08/
LOCATION:Hutton Community Center\, 660 Colton Ave.\, Colton\, CA\, 92324\, United States
CATEGORIES:Nutrition
END:VEVENT
BEGIN:VEVENT
DTSTART;TZID=America/Los_Angeles:20250403T090000
DTEND;TZID=America/Los_Angeles:20250403T100000
DTSTAMP:20260421T184712
CREATED:20250307T192604Z
LAST-MODIFIED:20250307T193819Z
UID:10004987-1743670800-1743674400@dph.sbcounty.gov
SUMMARY:Hutton Community Center - Bingocize Nutrition and Exercise Class
DESCRIPTION:Bingocize is a fun 10-week health promotion program that combines the game of bingo with inclusive exercises for everyone (seated or standing). Come play bingo and meet new people while learning about nutrition! \nClass is held Tuesdays and Thursdays from March 4 – May 8.
URL:https://dph.sbcounty.gov/event/hutton-community-center-bingocize-nutrition-and-exercise-class/2025-04-03/
LOCATION:Hutton Community Center\, 660 Colton Ave.\, Colton\, CA\, 92324\, United States
CATEGORIES:Nutrition
END:VEVENT
BEGIN:VEVENT
DTSTART;TZID=America/Los_Angeles:20250401T090000
DTEND;TZID=America/Los_Angeles:20250401T100000
DTSTAMP:20260421T184712
CREATED:20250307T192604Z
LAST-MODIFIED:20250307T193819Z
UID:10004984-1743498000-1743501600@dph.sbcounty.gov
SUMMARY:Hutton Community Center - Bingocize Nutrition and Exercise Class
DESCRIPTION:Bingocize is a fun 10-week health promotion program that combines the game of bingo with inclusive exercises for everyone (seated or standing). Come play bingo and meet new people while learning about nutrition! \nClass is held Tuesdays and Thursdays from March 4 – May 8.
URL:https://dph.sbcounty.gov/event/hutton-community-center-bingocize-nutrition-and-exercise-class/2025-04-01/
LOCATION:Hutton Community Center\, 660 Colton Ave.\, Colton\, CA\, 92324\, United States
CATEGORIES:Nutrition
END:VEVENT
BEGIN:VEVENT
DTSTART;TZID=America/Los_Angeles:20250327T090000
DTEND;TZID=America/Los_Angeles:20250327T100000
DTSTAMP:20260421T184712
CREATED:20250307T192604Z
LAST-MODIFIED:20250307T193819Z
UID:10004981-1743066000-1743069600@dph.sbcounty.gov
SUMMARY:Hutton Community Center - Bingocize Nutrition and Exercise Class
DESCRIPTION:Bingocize is a fun 10-week health promotion program that combines the game of bingo with inclusive exercises for everyone (seated or standing). Come play bingo and meet new people while learning about nutrition! \nClass is held Tuesdays and Thursdays from March 4 – May 8.
URL:https://dph.sbcounty.gov/event/hutton-community-center-bingocize-nutrition-and-exercise-class/2025-03-27/
LOCATION:Hutton Community Center\, 660 Colton Ave.\, Colton\, CA\, 92324\, United States
CATEGORIES:Nutrition
END:VEVENT
BEGIN:VEVENT
DTSTART;TZID=America/Los_Angeles:20250325T090000
DTEND;TZID=America/Los_Angeles:20250325T100000
DTSTAMP:20260421T184712
CREATED:20250307T192604Z
LAST-MODIFIED:20250307T193819Z
UID:10004978-1742893200-1742896800@dph.sbcounty.gov
SUMMARY:Hutton Community Center - Bingocize Nutrition and Exercise Class
DESCRIPTION:Bingocize is a fun 10-week health promotion program that combines the game of bingo with inclusive exercises for everyone (seated or standing). Come play bingo and meet new people while learning about nutrition! \nClass is held Tuesdays and Thursdays from March 4 – May 8.
URL:https://dph.sbcounty.gov/event/hutton-community-center-bingocize-nutrition-and-exercise-class/2025-03-25/
LOCATION:Hutton Community Center\, 660 Colton Ave.\, Colton\, CA\, 92324\, United States
CATEGORIES:Nutrition
END:VEVENT
BEGIN:VEVENT
DTSTART;TZID=America/Los_Angeles:20250320T090000
DTEND;TZID=America/Los_Angeles:20250320T100000
DTSTAMP:20260421T184712
CREATED:20250307T192604Z
LAST-MODIFIED:20250307T193819Z
UID:10004975-1742461200-1742464800@dph.sbcounty.gov
SUMMARY:Hutton Community Center - Bingocize Nutrition and Exercise Class
DESCRIPTION:Bingocize is a fun 10-week health promotion program that combines the game of bingo with inclusive exercises for everyone (seated or standing). Come play bingo and meet new people while learning about nutrition! \nClass is held Tuesdays and Thursdays from March 4 – May 8.
URL:https://dph.sbcounty.gov/event/hutton-community-center-bingocize-nutrition-and-exercise-class/2025-03-20/
LOCATION:Hutton Community Center\, 660 Colton Ave.\, Colton\, CA\, 92324\, United States
CATEGORIES:Nutrition
END:VEVENT
BEGIN:VEVENT
DTSTART;TZID=America/Los_Angeles:20250318T090000
DTEND;TZID=America/Los_Angeles:20250318T100000
DTSTAMP:20260421T184712
CREATED:20250307T192604Z
LAST-MODIFIED:20250307T193819Z
UID:10004972-1742288400-1742292000@dph.sbcounty.gov
SUMMARY:Hutton Community Center - Bingocize Nutrition and Exercise Class
DESCRIPTION:Bingocize is a fun 10-week health promotion program that combines the game of bingo with inclusive exercises for everyone (seated or standing). Come play bingo and meet new people while learning about nutrition! \nClass is held Tuesdays and Thursdays from March 4 – May 8.
URL:https://dph.sbcounty.gov/event/hutton-community-center-bingocize-nutrition-and-exercise-class/2025-03-18/
LOCATION:Hutton Community Center\, 660 Colton Ave.\, Colton\, CA\, 92324\, United States
CATEGORIES:Nutrition
END:VEVENT
BEGIN:VEVENT
DTSTART;TZID=America/Los_Angeles:20250313T090000
DTEND;TZID=America/Los_Angeles:20250313T100000
DTSTAMP:20260421T184712
CREATED:20250307T192604Z
LAST-MODIFIED:20250307T193819Z
UID:10004969-1741856400-1741860000@dph.sbcounty.gov
SUMMARY:Hutton Community Center - Bingocize Nutrition and Exercise Class
DESCRIPTION:Bingocize is a fun 10-week health promotion program that combines the game of bingo with inclusive exercises for everyone (seated or standing). Come play bingo and meet new people while learning about nutrition! \nClass is held Tuesdays and Thursdays from March 4 – May 8.
URL:https://dph.sbcounty.gov/event/hutton-community-center-bingocize-nutrition-and-exercise-class/2025-03-13/
LOCATION:Hutton Community Center\, 660 Colton Ave.\, Colton\, CA\, 92324\, United States
CATEGORIES:Nutrition
END:VEVENT
BEGIN:VEVENT
DTSTART;TZID=America/Los_Angeles:20250311T090000
DTEND;TZID=America/Los_Angeles:20250311T100000
DTSTAMP:20260421T184712
CREATED:20250307T192604Z
LAST-MODIFIED:20250307T193819Z
UID:10004966-1741683600-1741687200@dph.sbcounty.gov
SUMMARY:Hutton Community Center - Bingocize Nutrition and Exercise Class
DESCRIPTION:Bingocize is a fun 10-week health promotion program that combines the game of bingo with inclusive exercises for everyone (seated or standing). Come play bingo and meet new people while learning about nutrition! \nClass is held Tuesdays and Thursdays from March 4 – May 8.
URL:https://dph.sbcounty.gov/event/hutton-community-center-bingocize-nutrition-and-exercise-class/2025-03-11/
LOCATION:Hutton Community Center\, 660 Colton Ave.\, Colton\, CA\, 92324\, United States
CATEGORIES:Nutrition
END:VEVENT
BEGIN:VEVENT
DTSTART;TZID=America/Los_Angeles:20250306T090000
DTEND;TZID=America/Los_Angeles:20250306T100000
DTSTAMP:20260421T184712
CREATED:20250307T192604Z
LAST-MODIFIED:20250307T193819Z
UID:10004963-1741251600-1741255200@dph.sbcounty.gov
SUMMARY:Hutton Community Center - Bingocize Nutrition and Exercise Class
DESCRIPTION:Bingocize is a fun 10-week health promotion program that combines the game of bingo with inclusive exercises for everyone (seated or standing). Come play bingo and meet new people while learning about nutrition! \nClass is held Tuesdays and Thursdays from March 4 – May 8.
URL:https://dph.sbcounty.gov/event/hutton-community-center-bingocize-nutrition-and-exercise-class/2025-03-06/
LOCATION:Hutton Community Center\, 660 Colton Ave.\, Colton\, CA\, 92324\, United States
CATEGORIES:Nutrition
END:VEVENT
BEGIN:VEVENT
DTSTART;TZID=America/Los_Angeles:20250304T090000
DTEND;TZID=America/Los_Angeles:20250304T100000
DTSTAMP:20260421T184712
CREATED:20250307T192604Z
LAST-MODIFIED:20250307T193819Z
UID:10004960-1741078800-1741082400@dph.sbcounty.gov
SUMMARY:Hutton Community Center - Bingocize Nutrition and Exercise Class
DESCRIPTION:Bingocize is a fun 10-week health promotion program that combines the game of bingo with inclusive exercises for everyone (seated or standing). Come play bingo and meet new people while learning about nutrition! \nClass is held Tuesdays and Thursdays from March 4 – May 8.
URL:https://dph.sbcounty.gov/event/hutton-community-center-bingocize-nutrition-and-exercise-class/2025-03-04/
LOCATION:Hutton Community Center\, 660 Colton Ave.\, Colton\, CA\, 92324\, United States
CATEGORIES:Nutrition
END:VEVENT
BEGIN:VEVENT
DTSTART;TZID=America/Los_Angeles:20241023T100000
DTEND;TZID=America/Los_Angeles:20241023T110000
DTSTAMP:20260421T184712
CREATED:20241007T164230Z
LAST-MODIFIED:20241007T164230Z
UID:10004488-1729677600-1729681200@dph.sbcounty.gov
SUMMARY:Tai Chi for Arthritis & Fall Prevention (8-week class)
DESCRIPTION:Tai Chi for Arthritis & Fall Prevention utilizes slow\, gentle movements to improve lower body strength\, balance\, and flexibility. This 8-week class is open to older adults ages 55 or older with or without arthritis. \nClass meets every Wednesday\, Sept. 4 – Oct. 23 from 10-11 a.m.
URL:https://dph.sbcounty.gov/event/tai-chi-for-arthritis-fall-prevention-8-week-class/2024-10-23/
LOCATION:Hutton Community Center\, 660 Colton Ave.\, Colton\, CA\, 92324\, United States
CATEGORIES:Nutrition
END:VEVENT
BEGIN:VEVENT
DTSTART;TZID=America/Los_Angeles:20241016T100000
DTEND;TZID=America/Los_Angeles:20241016T110000
DTSTAMP:20260421T184712
CREATED:20241007T164230Z
LAST-MODIFIED:20241007T164230Z
UID:10004485-1729072800-1729076400@dph.sbcounty.gov
SUMMARY:Tai Chi for Arthritis & Fall Prevention (8-week class)
DESCRIPTION:Tai Chi for Arthritis & Fall Prevention utilizes slow\, gentle movements to improve lower body strength\, balance\, and flexibility. This 8-week class is open to older adults ages 55 or older with or without arthritis. \nClass meets every Wednesday\, Sept. 4 – Oct. 23 from 10-11 a.m.
URL:https://dph.sbcounty.gov/event/tai-chi-for-arthritis-fall-prevention-8-week-class/2024-10-16/
LOCATION:Hutton Community Center\, 660 Colton Ave.\, Colton\, CA\, 92324\, United States
CATEGORIES:Nutrition
END:VEVENT
BEGIN:VEVENT
DTSTART;TZID=America/Los_Angeles:20241009T100000
DTEND;TZID=America/Los_Angeles:20241009T110000
DTSTAMP:20260421T184712
CREATED:20241007T164230Z
LAST-MODIFIED:20241007T164230Z
UID:10004482-1728468000-1728471600@dph.sbcounty.gov
SUMMARY:Tai Chi for Arthritis & Fall Prevention (8-week class)
DESCRIPTION:Tai Chi for Arthritis & Fall Prevention utilizes slow\, gentle movements to improve lower body strength\, balance\, and flexibility. This 8-week class is open to older adults ages 55 or older with or without arthritis. \nClass meets every Wednesday\, Sept. 4 – Oct. 23 from 10-11 a.m.
URL:https://dph.sbcounty.gov/event/tai-chi-for-arthritis-fall-prevention-8-week-class/2024-10-09/
LOCATION:Hutton Community Center\, 660 Colton Ave.\, Colton\, CA\, 92324\, United States
CATEGORIES:Nutrition
END:VEVENT
BEGIN:VEVENT
DTSTART;TZID=America/Los_Angeles:20241002T100000
DTEND;TZID=America/Los_Angeles:20241002T110000
DTSTAMP:20260421T184712
CREATED:20241007T164230Z
LAST-MODIFIED:20241007T164230Z
UID:10004479-1727863200-1727866800@dph.sbcounty.gov
SUMMARY:Tai Chi for Arthritis & Fall Prevention (8-week class)
DESCRIPTION:Tai Chi for Arthritis & Fall Prevention utilizes slow\, gentle movements to improve lower body strength\, balance\, and flexibility. This 8-week class is open to older adults ages 55 or older with or without arthritis. \nClass meets every Wednesday\, Sept. 4 – Oct. 23 from 10-11 a.m.
URL:https://dph.sbcounty.gov/event/tai-chi-for-arthritis-fall-prevention-8-week-class/2024-10-02/
LOCATION:Hutton Community Center\, 660 Colton Ave.\, Colton\, CA\, 92324\, United States
CATEGORIES:Nutrition
END:VEVENT
BEGIN:VEVENT
DTSTART;TZID=America/Los_Angeles:20240925T100000
DTEND;TZID=America/Los_Angeles:20240925T110000
DTSTAMP:20260421T184712
CREATED:20241007T164230Z
LAST-MODIFIED:20241007T164230Z
UID:10004476-1727258400-1727262000@dph.sbcounty.gov
SUMMARY:Tai Chi for Arthritis & Fall Prevention (8-week class)
DESCRIPTION:Tai Chi for Arthritis & Fall Prevention utilizes slow\, gentle movements to improve lower body strength\, balance\, and flexibility. This 8-week class is open to older adults ages 55 or older with or without arthritis. \nClass meets every Wednesday\, Sept. 4 – Oct. 23 from 10-11 a.m.
URL:https://dph.sbcounty.gov/event/tai-chi-for-arthritis-fall-prevention-8-week-class/2024-09-25/
LOCATION:Hutton Community Center\, 660 Colton Ave.\, Colton\, CA\, 92324\, United States
CATEGORIES:Nutrition
END:VEVENT
BEGIN:VEVENT
DTSTART;TZID=America/Los_Angeles:20240918T100000
DTEND;TZID=America/Los_Angeles:20240918T110000
DTSTAMP:20260421T184712
CREATED:20241007T164230Z
LAST-MODIFIED:20241007T164230Z
UID:10004473-1726653600-1726657200@dph.sbcounty.gov
SUMMARY:Tai Chi for Arthritis & Fall Prevention (8-week class)
DESCRIPTION:Tai Chi for Arthritis & Fall Prevention utilizes slow\, gentle movements to improve lower body strength\, balance\, and flexibility. This 8-week class is open to older adults ages 55 or older with or without arthritis. \nClass meets every Wednesday\, Sept. 4 – Oct. 23 from 10-11 a.m.
URL:https://dph.sbcounty.gov/event/tai-chi-for-arthritis-fall-prevention-8-week-class/2024-09-18/
LOCATION:Hutton Community Center\, 660 Colton Ave.\, Colton\, CA\, 92324\, United States
CATEGORIES:Nutrition
END:VEVENT
BEGIN:VEVENT
DTSTART;TZID=America/Los_Angeles:20240911T100000
DTEND;TZID=America/Los_Angeles:20240911T110000
DTSTAMP:20260421T184712
CREATED:20241007T164230Z
LAST-MODIFIED:20241007T164230Z
UID:10004470-1726048800-1726052400@dph.sbcounty.gov
SUMMARY:Tai Chi for Arthritis & Fall Prevention (8-week class)
DESCRIPTION:Tai Chi for Arthritis & Fall Prevention utilizes slow\, gentle movements to improve lower body strength\, balance\, and flexibility. This 8-week class is open to older adults ages 55 or older with or without arthritis. \nClass meets every Wednesday\, Sept. 4 – Oct. 23 from 10-11 a.m.
URL:https://dph.sbcounty.gov/event/tai-chi-for-arthritis-fall-prevention-8-week-class/2024-09-11/
LOCATION:Hutton Community Center\, 660 Colton Ave.\, Colton\, CA\, 92324\, United States
CATEGORIES:Nutrition
END:VEVENT
BEGIN:VEVENT
DTSTART;TZID=America/Los_Angeles:20240904T100000
DTEND;TZID=America/Los_Angeles:20240904T110000
DTSTAMP:20260421T184712
CREATED:20241007T164230Z
LAST-MODIFIED:20241007T164230Z
UID:10004467-1725444000-1725447600@dph.sbcounty.gov
SUMMARY:Tai Chi for Arthritis & Fall Prevention (8-week class)
DESCRIPTION:Tai Chi for Arthritis & Fall Prevention utilizes slow\, gentle movements to improve lower body strength\, balance\, and flexibility. This 8-week class is open to older adults ages 55 or older with or without arthritis. \nClass meets every Wednesday\, Sept. 4 – Oct. 23 from 10-11 a.m.
URL:https://dph.sbcounty.gov/event/tai-chi-for-arthritis-fall-prevention-8-week-class/2024-09-04/
LOCATION:Hutton Community Center\, 660 Colton Ave.\, Colton\, CA\, 92324\, United States
CATEGORIES:Nutrition
END:VEVENT
END:VCALENDAR